BEGIN:VCALENDAR
VERSION:2.0
PRODID:-//InvisionCommunity Events 4.7.23//EN
METHOD:PUBLISH
CALSCALE:GREGORIAN
REFRESH-INTERVAL:PT15M
X-PUBLISHED-TTL:PT15M
X-WR-CALNAME:At My TV
NAME:At My TV
BEGIN:VTIMEZONE
TZID:Europe/London
TZURL:http://tzurl.org/zoneinfo/Europe/London
X-LIC-LOCATION:Europe/London
BEGIN:DAYLIGHT
TZOFFSETFROM:+0000
TZOFFSETTO:+0100
TZNAME:BST
DTSTART:20220327T020000Z
RRULE:FREQ=YEARLY;BYMONTH=3;BYDAY=-1SU
END:DAYLIGHT
BEGIN:STANDARD
TZOFFSETFROM:+0100
TZOFFSETTO:+0000
TZNAME:GMT
DTSTART:20221030T020000Z
RRULE:FREQ=YEARLY;BYMONTH=10;BYDAY=-1SU
END:STANDARD
END:VTIMEZONE
BEGIN:VEVENT
SUMMARY:Holiday Baking Championship 9x8 - Happy Holiday Getaways
DTSTAMP:20221206T085457Z
SEQUENCE:0
UID:154572-2-841ebed20eb198c4569419e99b7bf40a@themidnightzone.com
ORGANIZER;CN="Midnight":midnight@themidnightzone.com
DESCRIPTION:Ready for a holiday getaway\, host Jesse Palmer escapes thec
	old weather by challenging the bakers to createdesert-inspired succulent t
	arts. The two least successfulbakers ski into a cookie cake showdown that 
	will keep onecompetitor on track for the final bake. In the Main Heat\, th
	eremaining bakers use cake to highlight some of the most popularholiday va
	cation spots before judges Nancy Fuller\, DuffGoldman and Carla Hall award
	 the best cake maker with \,000and the championship title!
DTSTART:20221220T010000Z
DTEND:20221220T020000Z
END:VEVENT
END:VCALENDAR
