BEGIN:VCALENDAR
VERSION:2.0
PRODID:-//InvisionCommunity Events 4.7.23//EN
METHOD:PUBLISH
CALSCALE:GREGORIAN
REFRESH-INTERVAL:PT15M
X-PUBLISHED-TTL:PT15M
X-WR-CALNAME:At My TV
NAME:At My TV
BEGIN:VTIMEZONE
TZID:Europe/London
TZURL:http://tzurl.org/zoneinfo/Europe/London
X-LIC-LOCATION:Europe/London
BEGIN:DAYLIGHT
TZOFFSETFROM:+0000
TZOFFSETTO:+0100
TZNAME:BST
DTSTART:20220327T020000Z
RRULE:FREQ=YEARLY;BYMONTH=3;BYDAY=-1SU
END:DAYLIGHT
BEGIN:STANDARD
TZOFFSETFROM:+0100
TZOFFSETTO:+0000
TZNAME:GMT
DTSTART:20221030T020000Z
RRULE:FREQ=YEARLY;BYMONTH=10;BYDAY=-1SU
END:STANDARD
END:VTIMEZONE
BEGIN:VEVENT
SUMMARY:Tamron Hall 255x110 - Morris Chestnut\, Nia Long\, Melissa D
	eSousa\, Holly Robinson Peete
DTSTAMP:20221210T085453Z
SEQUENCE:0
UID:154810-2-841ebed20eb198c4569419e99b7bf40a@themidnightzone.com
ORGANIZER;CN="Midnight":midnight@themidnightzone.com
DESCRIPTION:Tamron continues to spread holiday cheer with her Tam Fam!Ta
	mron welcomes the cast of \"The Best Man: The Final Chapters.\"MORRIS CHES
	TNUT\, NIA LONG and MELISSA DESOUSA reunite. Plus\, HOLLY ROBINSON PEE
	TE discusses theimportance of her new film\, \"Holiday Heritage\,\" which
	 marksHallmark's first-ever movie celebrating Kwanzaa!
DTSTART:20221215T050000Z
DTEND:20221215T060000Z
END:VEVENT
END:VCALENDAR
