BEGIN:VCALENDAR
VERSION:2.0
PRODID:-//InvisionCommunity Events 4.7.23//EN
METHOD:PUBLISH
CALSCALE:GREGORIAN
REFRESH-INTERVAL:PT15M
X-PUBLISHED-TTL:PT15M
X-WR-CALNAME:At My TV
NAME:At My TV
BEGIN:VTIMEZONE
TZID:Europe/London
TZURL:http://tzurl.org/zoneinfo/Europe/London
X-LIC-LOCATION:Europe/London
BEGIN:DAYLIGHT
TZOFFSETFROM:+0000
TZOFFSETTO:+0100
TZNAME:BST
DTSTART:20230326T020000Z
RRULE:FREQ=YEARLY;BYMONTH=3;BYDAY=-1SU
END:DAYLIGHT
BEGIN:STANDARD
TZOFFSETFROM:+0100
TZOFFSETTO:+0000
TZNAME:GMT
DTSTART:20231029T020000Z
RRULE:FREQ=YEARLY;BYMONTH=10;BYDAY=-1SU
END:STANDARD
END:VTIMEZONE
BEGIN:VEVENT
SUMMARY:The Drew Barrymore Show 255x5 - Stacey Abrams\, José André
	s
DTSTAMP:20230108T085437Z
SEQUENCE:0
UID:156048-2-841ebed20eb198c4569419e99b7bf40a@themidnightzone.com
ORGANIZER;CN="Midnight":midnight@themidnightzone.com
DESCRIPTION:Former Georgia State Representative Stacey Abrams is chattin
	gwith Drew about a big upcoming birthday and the spreadsheet sheuses to tr
	ack her goals. Plus\, she's joining Drew for a roundof dating red flags! I
	n an all-new Drew's News\, Drew and RossMathews are covering one woman's y
	ear-end dating report and thepsychology behind why people love podcasts. 
	Chef andhumanitarian José Andrés is joining Drew along with hisdaughter
	s to discuss his organization World Central Kitchen andthe work they're do
	ing! Drew and Ross Mathews are hitting theheadlines in Drew's News\, inclu
	ding a super tip for keeping upwith new year's resolutions. 
DTSTART:20230109T050000Z
DTEND:20230109T060000Z
END:VEVENT
END:VCALENDAR
