BEGIN:VCALENDAR
VERSION:2.0
PRODID:-//InvisionCommunity Events 4.7.23//EN
METHOD:PUBLISH
CALSCALE:GREGORIAN
REFRESH-INTERVAL:PT15M
X-PUBLISHED-TTL:PT15M
X-WR-CALNAME:Pogdesign
NAME:Pogdesign
BEGIN:VTIMEZONE
TZID:Europe/London
TZURL:http://tzurl.org/zoneinfo/Europe/London
X-LIC-LOCATION:Europe/London
BEGIN:DAYLIGHT
TZOFFSETFROM:+0000
TZOFFSETTO:+0100
TZNAME:BST
DTSTART:20230326T020000Z
RRULE:FREQ=YEARLY;BYMONTH=3;BYDAY=-1SU
END:DAYLIGHT
BEGIN:STANDARD
TZOFFSETFROM:+0100
TZOFFSETTO:+0000
TZNAME:GMT
DTSTART:20231029T020000Z
RRULE:FREQ=YEARLY;BYMONTH=10;BYDAY=-1SU
END:STANDARD
END:VTIMEZONE
BEGIN:VEVENT
SUMMARY:The Rig S01E05 - \nSeason 1\, Episode 5
DTSTAMP:20230110T050006Z
SEQUENCE:0
UID:156157-3-841ebed20eb198c4569419e99b7bf40a@themidnightzone.com
ORGANIZER;CN="Midnight":midnight@themidnightzone.com
DESCRIPTION:The new arrivals on board from the Kinloch Charlie immediate
	lymake their presence felt\, as Pictor head Coake enlists a groupto underm
	ine a weakened Magnus and force their way to the pumpcontrol. But when Coa
	ke's motives are investigated and the crewrealise he isn't giving them the
	 full truth\, they findthemselves locked in an urgent race for answers wit
	h lives atstake.
DTSTART:20230110T235900Z
DTEND:20230111T005900Z
END:VEVENT
END:VCALENDAR
