BEGIN:VCALENDAR
VERSION:2.0
PRODID:-//InvisionCommunity Events 4.7.23//EN
METHOD:PUBLISH
CALSCALE:GREGORIAN
REFRESH-INTERVAL:PT15M
X-PUBLISHED-TTL:PT15M
X-WR-CALNAME:At My TV
NAME:At My TV
BEGIN:VTIMEZONE
TZID:Europe/London
TZURL:http://tzurl.org/zoneinfo/Europe/London
X-LIC-LOCATION:Europe/London
BEGIN:DAYLIGHT
TZOFFSETFROM:+0000
TZOFFSETTO:+0100
TZNAME:BST
DTSTART:20230326T020000Z
RRULE:FREQ=YEARLY;BYMONTH=3;BYDAY=-1SU
END:DAYLIGHT
BEGIN:STANDARD
TZOFFSETFROM:+0100
TZOFFSETTO:+0000
TZNAME:GMT
DTSTART:20231029T020000Z
RRULE:FREQ=YEARLY;BYMONTH=10;BYDAY=-1SU
END:STANDARD
END:VTIMEZONE
BEGIN:VEVENT
SUMMARY:Call The Midwife 12x5 - Episode 5
DTSTAMP:20230115T091434Z
SEQUENCE:0
UID:156441-2-841ebed20eb198c4569419e99b7bf40a@themidnightzone.com
ORGANIZER;CN="Midnight":midnight@themidnightzone.com
DESCRIPTION:Nancy oversees the care of Jill Mellor and her newborn baby\
	,Mylene\, a child she has had out of wedlock with Spencer Wray\,a young ma
	n from the West Indies. Jill and Spencer live withhis kind-hearted mother\
	, Florence. Not long after the birth\,Spencer's behaviour starts to raise 
	concerns as it becomesincreasingly erratic. Worried\, Nancy calls on Dr Tu
	rner whorefers Spencer for an urgent psychiatric review\, but asSpencer's 
	condition deteriorates more rapidly\, things take avery unexpected and sho
	cking turn.Dr Turner and Sister Veronicaarrange a men's health talk at the
	 surgery to discuss malecontraception and a new procedure\, the vasectomy.
	 At the sametime\, Dr Turner and Nurse Crane care for Annette Berkley\, wh
	ohas rheumatic heart disease and has gone against doctor'sadvice and falle
	n pregnant again.When Matthew's father\, SirBrigham\, visits Poplar\, rela
	tions between father and son aresomewhat frosty at best. Matthew's opinion
	 of Poplar ismarkedly different from his father's\, as he has grown fond o
	fthe area and its residents over recent years. Matthew wants toinvest more
	 money in the borough\, whereas Sir Brigham wants tosell up. With relation
	s at an all-time low\, Trixie is left todeliver Matthew some heartbreaking
	 news.
DTSTART:20230129T200000Z
DTEND:20230129T210000Z
END:VEVENT
END:VCALENDAR
