BEGIN:VCALENDAR
VERSION:2.0
PRODID:-//InvisionCommunity Events 4.7.23//EN
METHOD:PUBLISH
CALSCALE:GREGORIAN
REFRESH-INTERVAL:PT15M
X-PUBLISHED-TTL:PT15M
X-WR-CALNAME:Pogdesign
NAME:Pogdesign
BEGIN:VTIMEZONE
TZID:Europe/London
TZURL:http://tzurl.org/zoneinfo/Europe/London
X-LIC-LOCATION:Europe/London
BEGIN:DAYLIGHT
TZOFFSETFROM:+0000
TZOFFSETTO:+0100
TZNAME:BST
DTSTART:20230326T020000Z
RRULE:FREQ=YEARLY;BYMONTH=3;BYDAY=-1SU
END:DAYLIGHT
BEGIN:STANDARD
TZOFFSETFROM:+0100
TZOFFSETTO:+0000
TZNAME:GMT
DTSTART:20231029T020000Z
RRULE:FREQ=YEARLY;BYMONTH=10;BYDAY=-1SU
END:STANDARD
END:VTIMEZONE
BEGIN:VEVENT
SUMMARY:The Flash S09E02 - \nHear No Evil
DTSTAMP:20230202T052004Z
SEQUENCE:0
UID:157466-3-841ebed20eb198c4569419e99b7bf40a@themidnightzone.com
ORGANIZER;CN="Midnight":midnight@themidnightzone.com
DESCRIPTION:Barry feels guilty for what happened to Caitlin and Mark com
	esup with a plan which makes everyone skeptical. Meanwhile\, RedDeath loom
	s in Central City and commands that failure is not anoption. Joe asks Ceci
	le to make a choice which leads Cecile tothink about the greater good. All
	egra and Chester take a stepin a new direction. Lastly\, old friends pay a
	n unexpectedvisit to S.T.A.R. Labs.
DTSTART:20230215T200000Z
DTEND:20230215T210000Z
END:VEVENT
END:VCALENDAR
