BEGIN:VCALENDAR
VERSION:2.0
PRODID:-//InvisionCommunity Events 4.7.23//EN
METHOD:PUBLISH
CALSCALE:GREGORIAN
REFRESH-INTERVAL:PT15M
X-PUBLISHED-TTL:PT15M
X-WR-CALNAME:At My TV
NAME:At My TV
BEGIN:VTIMEZONE
TZID:Europe/London
TZURL:http://tzurl.org/zoneinfo/Europe/London
X-LIC-LOCATION:Europe/London
BEGIN:DAYLIGHT
TZOFFSETFROM:+0000
TZOFFSETTO:+0100
TZNAME:BST
DTSTART:20230326T020000Z
RRULE:FREQ=YEARLY;BYMONTH=3;BYDAY=-1SU
END:DAYLIGHT
BEGIN:STANDARD
TZOFFSETFROM:+0100
TZOFFSETTO:+0000
TZNAME:GMT
DTSTART:20231029T020000Z
RRULE:FREQ=YEARLY;BYMONTH=10;BYDAY=-1SU
END:STANDARD
END:VTIMEZONE
BEGIN:VEVENT
SUMMARY:The Drew Barrymore Show 3x94 - Alan Cumming\, Ari Notartomas
	o\,Cheyenne Isabel Wells\, Marisa Davila\, Tricia Fukuhara
DTSTAMP:20230204T091425Z
SEQUENCE:0
UID:157681-2-841ebed20eb198c4569419e99b7bf40a@themidnightzone.com
ORGANIZER;CN="Midnight":midnight@themidnightzone.com
DESCRIPTION:\"The Traitors\" host Alan Cumming is talking to Drew about 
	hisnew show and the time he swam in Drew's pool when she wasn'thome. He's 
	also playing a round of behind-the-scenes anddishing on movies like \"Spic
	e World\" and \"Spy Kids.\"  Drew andRoss Mathews are serving the news su
	nny-side up and are joinedby the cast of \"Grease: Rise of the Pink Ladies
	\" who share afirst look of the new prequel to the 1978 classic \"Grease.\
	" Drew and Ross Mathews are back at the Drew's News deskhitting headlines
	 like Florence Pugh's upcoming musicalreleases and the man who's spending 
	millions to stay young.Dominique and Ashley Sharpton\, daughters of Al Sha
	rpton\, arejoining the news desk and talking about their new show \"TheSha
	rpton Sisters.\" Drew and Pilar Valdes are whipping upsomething delicious 
	in the kitchen to celebrate NationalFettuccini Alfredo Day! 
DTSTART:20230207T050000Z
DTEND:20230207T060000Z
END:VEVENT
END:VCALENDAR
