BEGIN:VCALENDAR
VERSION:2.0
PRODID:-//InvisionCommunity Events 4.7.23//EN
METHOD:PUBLISH
CALSCALE:GREGORIAN
REFRESH-INTERVAL:PT15M
X-PUBLISHED-TTL:PT15M
X-WR-CALNAME:Pogdesign
NAME:Pogdesign
BEGIN:VTIMEZONE
TZID:Europe/London
TZURL:http://tzurl.org/zoneinfo/Europe/London
X-LIC-LOCATION:Europe/London
BEGIN:DAYLIGHT
TZOFFSETFROM:+0000
TZOFFSETTO:+0100
TZNAME:BST
DTSTART:20230326T020000Z
RRULE:FREQ=YEARLY;BYMONTH=3;BYDAY=-1SU
END:DAYLIGHT
BEGIN:STANDARD
TZOFFSETFROM:+0100
TZOFFSETTO:+0000
TZNAME:GMT
DTSTART:20231029T020000Z
RRULE:FREQ=YEARLY;BYMONTH=10;BYDAY=-1SU
END:STANDARD
END:VTIMEZONE
BEGIN:VEVENT
SUMMARY:Guy's Grocery Games S31E10 - \nGGG Winners' Face-Off
DTSTAMP:20230205T132004Z
SEQUENCE:0
UID:157748-3-841ebed20eb198c4569419e99b7bf40a@themidnightzone.com
ORGANIZER;CN="Midnight":midnight@themidnightzone.com
DESCRIPTION:Four returning winners vie for the title of Ultimate Guy'sGr
	ocery Games Champ\, but it won't be easy! The chefs competein a pair of on
	e-on-one sudden-death matches featuring the gameWild Cards. The winners of
	 these dual battles face off in aculinary showdown where two chefs determi
	ne their final dish byplacing food magnets on a fridge. The highest scorin
	g dishdetermines who will win a guaranteed \,000 and the title ofUltimate 
	GGG Champ.
DTSTART:20230208T210000Z
DTEND:20230208T213000Z
END:VEVENT
END:VCALENDAR
