BEGIN:VCALENDAR
VERSION:2.0
PRODID:-//InvisionCommunity Events 4.7.23//EN
METHOD:PUBLISH
CALSCALE:GREGORIAN
REFRESH-INTERVAL:PT15M
X-PUBLISHED-TTL:PT15M
X-WR-CALNAME:At My TV
NAME:At My TV
BEGIN:VTIMEZONE
TZID:Europe/London
TZURL:http://tzurl.org/zoneinfo/Europe/London
X-LIC-LOCATION:Europe/London
BEGIN:DAYLIGHT
TZOFFSETFROM:+0000
TZOFFSETTO:+0100
TZNAME:BST
DTSTART:20230326T020000Z
RRULE:FREQ=YEARLY;BYMONTH=3;BYDAY=-1SU
END:DAYLIGHT
BEGIN:STANDARD
TZOFFSETFROM:+0100
TZOFFSETTO:+0000
TZNAME:GMT
DTSTART:20231029T020000Z
RRULE:FREQ=YEARLY;BYMONTH=10;BYDAY=-1SU
END:STANDARD
END:VTIMEZONE
BEGIN:VEVENT
SUMMARY:Girl Meets Farm 12x9 - Final Touches House Reno
DTSTAMP:20230212T091417Z
SEQUENCE:0
UID:158135-2-841ebed20eb198c4569419e99b7bf40a@themidnightzone.com
ORGANIZER;CN="Midnight":midnight@themidnightzone.com
DESCRIPTION:Molly Yeh and Nick love being comfortable\, so they're dinin
	gin a special place as Nick installs the final touches on theirhouse reno 
	-- their new porch swing! For a cozy night in\,Molly cooks up Wild Rice Pa
	ncakes with Cherry Compote\,Everything Bagel Chicken and Biscuits and Kimc
	hi Potato Salad.Plus\, they'll swing the night away with a slice of herCho
	colate Peanut Butter Sheet Cake.
DTSTART:20230226T160000Z
DTEND:20230226T163000Z
END:VEVENT
END:VCALENDAR
