BEGIN:VCALENDAR
VERSION:2.0
PRODID:-//InvisionCommunity Events 4.7.23//EN
METHOD:PUBLISH
CALSCALE:GREGORIAN
REFRESH-INTERVAL:PT15M
X-PUBLISHED-TTL:PT15M
X-WR-CALNAME:At My TV
NAME:At My TV
BEGIN:VTIMEZONE
TZID:Europe/London
TZURL:http://tzurl.org/zoneinfo/Europe/London
X-LIC-LOCATION:Europe/London
BEGIN:DAYLIGHT
TZOFFSETFROM:+0000
TZOFFSETTO:+0100
TZNAME:BST
DTSTART:20230326T020000Z
RRULE:FREQ=YEARLY;BYMONTH=3;BYDAY=-1SU
END:DAYLIGHT
BEGIN:STANDARD
TZOFFSETFROM:+0100
TZOFFSETTO:+0000
TZNAME:GMT
DTSTART:20231029T020000Z
RRULE:FREQ=YEARLY;BYMONTH=10;BYDAY=-1SU
END:STANDARD
END:VTIMEZONE
BEGIN:VEVENT
SUMMARY:Masters of Illusion 9x3 - Flash\, Shine\, and Wonderland
DTSTAMP:20230212T091417Z
SEQUENCE:0
UID:158141-2-841ebed20eb198c4569419e99b7bf40a@themidnightzone.com
ORGANIZER;CN="Midnight":midnight@themidnightzone.com
DESCRIPTION:Hosted by Dean Cain\, \"Masters of Illusion\" features amazi
	ngmagic performed by cutting-edge illusionists\, escape artistsand perform
	ers displaying skills ranging from perplexinginteractive mind magic to hil
	arious comedy routines - all infront of a studio audience. Magicians featu
	red in this episodeinclude Alexandra Duvivier\, Rudy Coby\, Joshua Jay\, A
	naDeGuzman\, Chipper Lowell\, Andy Gladwin and Clarvoyants.
DTSTART:20230226T010000Z
DTEND:20230226T013000Z
END:VEVENT
END:VCALENDAR
