BEGIN:VCALENDAR
VERSION:2.0
PRODID:-//InvisionCommunity Events 4.7.23//EN
METHOD:PUBLISH
CALSCALE:GREGORIAN
REFRESH-INTERVAL:PT15M
X-PUBLISHED-TTL:PT15M
X-WR-CALNAME:Pogdesign
NAME:Pogdesign
BEGIN:VTIMEZONE
TZID:Europe/London
TZURL:http://tzurl.org/zoneinfo/Europe/London
X-LIC-LOCATION:Europe/London
BEGIN:DAYLIGHT
TZOFFSETFROM:+0000
TZOFFSETTO:+0100
TZNAME:BST
DTSTART:20230326T020000Z
RRULE:FREQ=YEARLY;BYMONTH=3;BYDAY=-1SU
END:DAYLIGHT
BEGIN:STANDARD
TZOFFSETFROM:+0100
TZOFFSETTO:+0000
TZNAME:GMT
DTSTART:20231029T020000Z
RRULE:FREQ=YEARLY;BYMONTH=10;BYDAY=-1SU
END:STANDARD
END:VTIMEZONE
BEGIN:VEVENT
SUMMARY:The Apprentice (UK) S17E09 - \nMale Beauty
DTSTAMP:20230216T052005Z
SEQUENCE:0
UID:158343-3-841ebed20eb198c4569419e99b7bf40a@themidnightzone.com
ORGANIZER;CN="Midnight":midnight@themidnightzone.com
DESCRIPTION:For week nine\, the candidates must design a new men's skinc
	areproduct\, then pitch it to industry buyers. For one team\,wrangling ove
	r a recipe leads to a disastrous skin-staininggoo\, meanwhile a lack of cr
	eativity on the other team resultsin an unoriginal concept. In the boardro
	om\, Lord Sugar decidesto wash his hands of not just one candidate\, but t
	wo\, in ashock double firing!
DTSTART:20230302T160000Z
DTEND:20230302T170000Z
END:VEVENT
END:VCALENDAR
