BEGIN:VCALENDAR
VERSION:2.0
PRODID:-//InvisionCommunity Events 4.7.23//EN
METHOD:PUBLISH
CALSCALE:GREGORIAN
REFRESH-INTERVAL:PT15M
X-PUBLISHED-TTL:PT15M
X-WR-CALNAME:Pogdesign
NAME:Pogdesign
BEGIN:VTIMEZONE
TZID:Europe/London
TZURL:http://tzurl.org/zoneinfo/Europe/London
X-LIC-LOCATION:Europe/London
BEGIN:DAYLIGHT
TZOFFSETFROM:+0000
TZOFFSETTO:+0100
TZNAME:BST
DTSTART:20230326T020000Z
RRULE:FREQ=YEARLY;BYMONTH=3;BYDAY=-1SU
END:DAYLIGHT
BEGIN:STANDARD
TZOFFSETFROM:+0100
TZOFFSETTO:+0000
TZNAME:GMT
DTSTART:20231029T020000Z
RRULE:FREQ=YEARLY;BYMONTH=10;BYDAY=-1SU
END:STANDARD
END:VTIMEZONE
BEGIN:VEVENT
SUMMARY:Daisy Jones & The Six S01E02 - \nTrack 2: I'll Take You Ther
	e
DTSTAMP:20230219T052004Z
SEQUENCE:0
UID:158560-3-841ebed20eb198c4569419e99b7bf40a@themidnightzone.com
ORGANIZER;CN="Midnight":midnight@themidnightzone.com
DESCRIPTION:Having found her voice\, Daisy navigates the LA musicscene-w
	ith the guidance of her close friend Simone andlegendary producer Teddy Pr
	ice. Now in LA and with keyboardistKaren Sirko\, the Dunne Brothers band e
	xperience their ownchallenges trying to make it. After a chance encounter 
	withTeddy offers hope\, the band is heartbroken to find Billy'sdemons thre
	atening to overpower his potential.
DTSTART:20230304T235900Z
DTEND:20230305T005900Z
END:VEVENT
END:VCALENDAR
