BEGIN:VCALENDAR
VERSION:2.0
PRODID:-//InvisionCommunity Events 4.7.23//EN
METHOD:PUBLISH
CALSCALE:GREGORIAN
REFRESH-INTERVAL:PT15M
X-PUBLISHED-TTL:PT15M
X-WR-CALNAME:Pogdesign
NAME:Pogdesign
BEGIN:VTIMEZONE
TZID:Europe/London
TZURL:http://tzurl.org/zoneinfo/Europe/London
X-LIC-LOCATION:Europe/London
BEGIN:DAYLIGHT
TZOFFSETFROM:+0000
TZOFFSETTO:+0100
TZNAME:BST
DTSTART:20230326T020000Z
RRULE:FREQ=YEARLY;BYMONTH=3;BYDAY=-1SU
END:DAYLIGHT
BEGIN:STANDARD
TZOFFSETFROM:+0100
TZOFFSETTO:+0000
TZNAME:GMT
DTSTART:20231029T020000Z
RRULE:FREQ=YEARLY;BYMONTH=10;BYDAY=-1SU
END:STANDARD
END:VTIMEZONE
BEGIN:VEVENT
SUMMARY:Guy's Grocery Games S32E04 - \nSuper Seafood Showdown
DTSTAMP:20230223T052004Z
SEQUENCE:0
UID:158777-3-841ebed20eb198c4569419e99b7bf40a@themidnightzone.com
ORGANIZER;CN="Midnight":midnight@themidnightzone.com
DESCRIPTION:Guy Fieri's games always have a catch\, especially when hein
	vites four seafood masters to serve up the catch of the day.In round one\,
	 the chefs play \"Go Fish\" todetermine the catch they'll cook for their f
	ish dinner. Then inround two\, the remaining chefs make a shellfish feast 
	usingthe sample table items that Hunter and the judges are hawkingaround t
	he store! The winning chef will earn a\"net\" profit of up to \,000!
DTSTART:20230308T210000Z
DTEND:20230308T213000Z
END:VEVENT
END:VCALENDAR
