BEGIN:VCALENDAR
VERSION:2.0
PRODID:-//InvisionCommunity Events 4.7.23//EN
METHOD:PUBLISH
CALSCALE:GREGORIAN
REFRESH-INTERVAL:PT15M
X-PUBLISHED-TTL:PT15M
X-WR-CALNAME:At My TV
NAME:At My TV
BEGIN:VTIMEZONE
TZID:Europe/London
TZURL:http://tzurl.org/zoneinfo/Europe/London
X-LIC-LOCATION:Europe/London
BEGIN:DAYLIGHT
TZOFFSETFROM:+0000
TZOFFSETTO:+0100
TZNAME:BST
DTSTART:20230326T020000Z
RRULE:FREQ=YEARLY;BYMONTH=3;BYDAY=-1SU
END:DAYLIGHT
BEGIN:STANDARD
TZOFFSETFROM:+0100
TZOFFSETTO:+0000
TZNAME:GMT
DTSTART:20231029T020000Z
RRULE:FREQ=YEARLY;BYMONTH=10;BYDAY=-1SU
END:STANDARD
END:VTIMEZONE
BEGIN:VEVENT
SUMMARY:Tamron Hall 255x42 - Candid Conversations
DTSTAMP:20230224T091405Z
SEQUENCE:0
UID:158904-2-841ebed20eb198c4569419e99b7bf40a@themidnightzone.com
ORGANIZER;CN="Midnight":midnight@themidnightzone.com
DESCRIPTION:Tamron welcomes former first lady\, Senator and Secretary of
	State HILLARY RODHAM CLINTON. Plus\, entrepreneur ALICE CHUN onher life-ch
	anging work featured in Clinton's now streamingdocu-series\, \"Gutsy.\" T
	hen\, a group of women open up aboutthe imbalance they face in today's dat
	ing pool. Plus\, formerprofessional football player-turned-New York Times 
	bestsellingauthor\, LEWIS HOWES\, talks about his new book\, \"The GreatMi
	ndset: Unlock The Power of Your Mind and Live Your BestLife.\"
DTSTART:20230302T050000Z
DTEND:20230302T060000Z
END:VEVENT
END:VCALENDAR
