BEGIN:VCALENDAR
VERSION:2.0
PRODID:-//InvisionCommunity Events 4.7.23//EN
METHOD:PUBLISH
CALSCALE:GREGORIAN
REFRESH-INTERVAL:PT15M
X-PUBLISHED-TTL:PT15M
X-WR-CALNAME:At My TV
NAME:At My TV
BEGIN:VTIMEZONE
TZID:Europe/London
TZURL:http://tzurl.org/zoneinfo/Europe/London
X-LIC-LOCATION:Europe/London
BEGIN:DAYLIGHT
TZOFFSETFROM:+0000
TZOFFSETTO:+0100
TZNAME:BST
DTSTART:20230326T020000Z
RRULE:FREQ=YEARLY;BYMONTH=3;BYDAY=-1SU
END:DAYLIGHT
BEGIN:STANDARD
TZOFFSETFROM:+0100
TZOFFSETTO:+0000
TZNAME:GMT
DTSTART:20231029T020000Z
RRULE:FREQ=YEARLY;BYMONTH=10;BYDAY=-1SU
END:STANDARD
END:VTIMEZONE
BEGIN:VEVENT
SUMMARY:The Kelly Clarkson Show 4x114 - DJ Cassidy: Angie Martinez:C
	hance the Rapper
DTSTAMP:20230311T091349Z
SEQUENCE:0
UID:159856-2-841ebed20eb198c4569419e99b7bf40a@themidnightzone.com
ORGANIZER;CN="Midnight":midnight@themidnightzone.com
DESCRIPTION:50 Years of Hip-Hop. Kellyoke: \"She Wants to Move\" (N.E.R.
	D).Obsessed: DJ Cassidy. Chance the Rapper. Angie Martinez.\"Undercover Co
	vers.\" Mr. Shumperts \"Hit Factory.\" WIL: Hip HopSweet Shop.
DTSTART:20230313T040000Z
DTEND:20230313T050000Z
END:VEVENT
END:VCALENDAR
