BEGIN:VCALENDAR
VERSION:2.0
PRODID:-//InvisionCommunity Events 4.7.23//EN
METHOD:PUBLISH
CALSCALE:GREGORIAN
REFRESH-INTERVAL:PT15M
X-PUBLISHED-TTL:PT15M
X-WR-CALNAME:At My TV
NAME:At My TV
BEGIN:VTIMEZONE
TZID:Europe/London
TZURL:http://tzurl.org/zoneinfo/Europe/London
X-LIC-LOCATION:Europe/London
BEGIN:DAYLIGHT
TZOFFSETFROM:+0000
TZOFFSETTO:+0100
TZNAME:BST
DTSTART:20230326T020000Z
RRULE:FREQ=YEARLY;BYMONTH=3;BYDAY=-1SU
END:DAYLIGHT
BEGIN:STANDARD
TZOFFSETFROM:+0100
TZOFFSETTO:+0000
TZNAME:GMT
DTSTART:20231029T020000Z
RRULE:FREQ=YEARLY;BYMONTH=10;BYDAY=-1SU
END:STANDARD
END:VTIMEZONE
BEGIN:VEVENT
SUMMARY:History's Greatest Mysteries 4x9 - Decoding the MysteriousAn
	tikythera Mechanism
DTSTAMP:20230315T091344Z
SEQUENCE:0
UID:160078-2-841ebed20eb198c4569419e99b7bf40a@themidnightzone.com
ORGANIZER;CN="Midnight":midnight@themidnightzone.com
DESCRIPTION:An ancient mechanical device found on a 2\,000-year-oldshipw
	reck has become known as the world's first computer. Themachine is centuri
	es more advanced than historians thoughtpossible\, but its origin and true
	 purpose are shrouded insecrecy. Can modern technology finally unveil what
	 themysterious Antikythera Mechanism actually is?
DTSTART:20230328T010000Z
DTEND:20230328T020000Z
END:VEVENT
END:VCALENDAR
