BEGIN:VCALENDAR
VERSION:2.0
PRODID:-//InvisionCommunity Events 4.7.23//EN
METHOD:PUBLISH
CALSCALE:GREGORIAN
REFRESH-INTERVAL:PT15M
X-PUBLISHED-TTL:PT15M
X-WR-CALNAME:At My TV
NAME:At My TV
BEGIN:VTIMEZONE
TZID:Europe/London
TZURL:http://tzurl.org/zoneinfo/Europe/London
X-LIC-LOCATION:Europe/London
BEGIN:DAYLIGHT
TZOFFSETFROM:+0000
TZOFFSETTO:+0100
TZNAME:BST
DTSTART:20230326T020000Z
RRULE:FREQ=YEARLY;BYMONTH=3;BYDAY=-1SU
END:DAYLIGHT
BEGIN:STANDARD
TZOFFSETFROM:+0100
TZOFFSETTO:+0000
TZNAME:GMT
DTSTART:20231029T020000Z
RRULE:FREQ=YEARLY;BYMONTH=10;BYDAY=-1SU
END:STANDARD
END:VTIMEZONE
BEGIN:VEVENT
SUMMARY:Live with Kelly & Ryan 7x131 - Bob Odenkirk\, Carrie Coon\, 
	Dr.Michael Breus
DTSTAMP:20230315T091344Z
SEQUENCE:0
UID:160110-2-841ebed20eb198c4569419e99b7bf40a@themidnightzone.com
ORGANIZER;CN="Midnight":midnight@themidnightzone.com
DESCRIPTION:Actor BOB ODENKIRK stops by\, and actress CARRIE COON breaks
	down her role in the upcoming film \"Boston Strangler.\" Inaddition\, DR. 
	MICHAEL BREUS quizzes the hosts on their sleeptrivia as \"Live's Sleep Wee
	k\" continues.
DTSTART:20230316T130000Z
DTEND:20230316T140000Z
END:VEVENT
END:VCALENDAR
