BEGIN:VCALENDAR
VERSION:2.0
PRODID:-//InvisionCommunity Events 4.7.23//EN
METHOD:PUBLISH
CALSCALE:GREGORIAN
REFRESH-INTERVAL:PT15M
X-PUBLISHED-TTL:PT15M
X-WR-CALNAME:At My TV
NAME:At My TV
BEGIN:VTIMEZONE
TZID:Europe/London
TZURL:http://tzurl.org/zoneinfo/Europe/London
X-LIC-LOCATION:Europe/London
BEGIN:DAYLIGHT
TZOFFSETFROM:+0000
TZOFFSETTO:+0100
TZNAME:BST
DTSTART:20230326T020000Z
RRULE:FREQ=YEARLY;BYMONTH=3;BYDAY=-1SU
END:DAYLIGHT
BEGIN:STANDARD
TZOFFSETFROM:+0100
TZOFFSETTO:+0000
TZNAME:GMT
DTSTART:20231029T020000Z
RRULE:FREQ=YEARLY;BYMONTH=10;BYDAY=-1SU
END:STANDARD
END:VTIMEZONE
BEGIN:VEVENT
SUMMARY:Next Level Chef 2x8 - Going Global
DTSTAMP:20230318T091342Z
SEQUENCE:0
UID:160324-2-841ebed20eb198c4569419e99b7bf40a@themidnightzone.com
ORGANIZER;CN="Midnight":midnight@themidnightzone.com
DESCRIPTION:The game has changed completely as the teams have beentermin
	ated and\, moving forward\, each will compete as theirindividual self. Whe
	n the platform drops\, each person willgrab a box with a country's flag on
	 it but will not know what'sinside their box. Each will be tasked to make 
	the country'ssignature dish\, but they won't know what it is until thecomp
	etition begins. One chef's dreams will come to an end.
DTSTART:20230331T000000Z
DTEND:20230331T010000Z
END:VEVENT
END:VCALENDAR
