BEGIN:VCALENDAR
VERSION:2.0
PRODID:-//InvisionCommunity Events 4.7.23//EN
METHOD:PUBLISH
CALSCALE:GREGORIAN
REFRESH-INTERVAL:PT15M
X-PUBLISHED-TTL:PT15M
X-WR-CALNAME:At My TV
NAME:At My TV
BEGIN:VTIMEZONE
TZID:Europe/London
TZURL:http://tzurl.org/zoneinfo/Europe/London
X-LIC-LOCATION:Europe/London
BEGIN:DAYLIGHT
TZOFFSETFROM:+0000
TZOFFSETTO:+0100
TZNAME:BST
DTSTART:20230326T020000Z
RRULE:FREQ=YEARLY;BYMONTH=3;BYDAY=-1SU
END:DAYLIGHT
BEGIN:STANDARD
TZOFFSETFROM:+0100
TZOFFSETTO:+0000
TZNAME:GMT
DTSTART:20231029T020000Z
RRULE:FREQ=YEARLY;BYMONTH=10;BYDAY=-1SU
END:STANDARD
END:VTIMEZONE
BEGIN:VEVENT
SUMMARY:Rachael Ray 17x114 - Rach's Chicken Enchiladas + Dr. Will Li
	Shares The Latest Research on Metabolism
DTSTAMP:20230319T091339Z
SEQUENCE:0
UID:160385-2-841ebed20eb198c4569419e99b7bf40a@themidnightzone.com
ORGANIZER;CN="Midnight":midnight@themidnightzone.com
DESCRIPTION:Chef Scott Conant cooks a hit dish from his restaurant's men
	u:Focaccia di Recco with Stracchino Cheese. Later\, Dr. Will Litalks about
	 his new book \"Eat to Beat Your Diet!\,\" sharing thelatest research on m
	etabolism and one of his favorite healthyrecipes: one-pan chicken\, rice &
	amp\; kale. In Rach'skitchen\, she's cooking her chicken enchiladas topped
	 withdelicious Mexican crema.
DTSTART:20230324T150000Z
DTEND:20230324T160000Z
END:VEVENT
END:VCALENDAR
