BEGIN:VCALENDAR
VERSION:2.0
PRODID:-//InvisionCommunity Events 4.7.23//EN
METHOD:PUBLISH
CALSCALE:GREGORIAN
REFRESH-INTERVAL:PT15M
X-PUBLISHED-TTL:PT15M
X-WR-CALNAME:At My TV
NAME:At My TV
BEGIN:VTIMEZONE
TZID:Europe/London
TZURL:http://tzurl.org/zoneinfo/Europe/London
X-LIC-LOCATION:Europe/London
BEGIN:DAYLIGHT
TZOFFSETFROM:+0000
TZOFFSETTO:+0100
TZNAME:BST
DTSTART:20230326T020000Z
RRULE:FREQ=YEARLY;BYMONTH=3;BYDAY=-1SU
END:DAYLIGHT
BEGIN:STANDARD
TZOFFSETFROM:+0100
TZOFFSETTO:+0000
TZNAME:GMT
DTSTART:20231029T020000Z
RRULE:FREQ=YEARLY;BYMONTH=10;BYDAY=-1SU
END:STANDARD
END:VTIMEZONE
BEGIN:VEVENT
SUMMARY:Spring Baking Championship 9x5 - Love in the Great Outdoors
DTSTAMP:20230321T091339Z
SEQUENCE:0
UID:160456-2-841ebed20eb198c4569419e99b7bf40a@themidnightzone.com
ORGANIZER;CN="Midnight":midnight@themidnightzone.com
DESCRIPTION:Host Jesse Palmer instructs the bakers to look to the stars 
	andcreate celestial mousse cakes. Then\, the bakers pair up in ateam chall
	enge to make romantic croquembouche arbors and floralmacarons that are fit
	 for judges Duff Goldman\, Kardea Brownand Nancy Fuller's spring garden pa
	rty.
DTSTART:20230404T000000Z
DTEND:20230404T010000Z
END:VEVENT
END:VCALENDAR
