BEGIN:VCALENDAR
VERSION:2.0
PRODID:-//InvisionCommunity Events 4.7.23//EN
METHOD:PUBLISH
CALSCALE:GREGORIAN
REFRESH-INTERVAL:PT15M
X-PUBLISHED-TTL:PT15M
X-WR-CALNAME:At My TV
NAME:At My TV
BEGIN:VTIMEZONE
TZID:Europe/London
TZURL:http://tzurl.org/zoneinfo/Europe/London
X-LIC-LOCATION:Europe/London
BEGIN:DAYLIGHT
TZOFFSETFROM:+0000
TZOFFSETTO:+0100
TZNAME:BST
DTSTART:20230326T020000Z
RRULE:FREQ=YEARLY;BYMONTH=3;BYDAY=-1SU
END:DAYLIGHT
BEGIN:STANDARD
TZOFFSETFROM:+0100
TZOFFSETTO:+0000
TZNAME:GMT
DTSTART:20231029T020000Z
RRULE:FREQ=YEARLY;BYMONTH=10;BYDAY=-1SU
END:STANDARD
END:VTIMEZONE
BEGIN:VEVENT
SUMMARY:Riverdale 7x2 - Chapter One Hundred and Nineteen: Skip\, Hop
	\,and Thump!
DTSTAMP:20230323T091337Z
SEQUENCE:0
UID:160574-2-841ebed20eb198c4569419e99b7bf40a@themidnightzone.com
ORGANIZER;CN="Midnight":midnight@themidnightzone.com
DESCRIPTION:Riverdale High's sock hop is around the corner and Archie ha
	shis sights set on taking Veronica to the dance. Betty isconfused when Kev
	in appears uninterested in taking things tothe next level with her. Elsewh
	ere\, Jughead takes aim at PepComics\, and Toni attempts to convince Chery
	l to let Fangsperform at the sock hop.
DTSTART:20230406T010000Z
DTEND:20230406T020000Z
END:VEVENT
END:VCALENDAR
