BEGIN:VCALENDAR
VERSION:2.0
PRODID:-//InvisionCommunity Events 4.7.23//EN
METHOD:PUBLISH
CALSCALE:GREGORIAN
REFRESH-INTERVAL:PT15M
X-PUBLISHED-TTL:PT15M
X-WR-CALNAME:At My TV
NAME:At My TV
BEGIN:VTIMEZONE
TZID:Europe/London
TZURL:http://tzurl.org/zoneinfo/Europe/London
X-LIC-LOCATION:Europe/London
BEGIN:DAYLIGHT
TZOFFSETFROM:+0000
TZOFFSETTO:+0100
TZNAME:BST
DTSTART:20230326T020000Z
RRULE:FREQ=YEARLY;BYMONTH=3;BYDAY=-1SU
END:DAYLIGHT
BEGIN:STANDARD
TZOFFSETFROM:+0100
TZOFFSETTO:+0000
TZNAME:GMT
DTSTART:20231029T020000Z
RRULE:FREQ=YEARLY;BYMONTH=10;BYDAY=-1SU
END:STANDARD
END:VTIMEZONE
BEGIN:VEVENT
SUMMARY:Pawn Stars 21x4 - Detective Rick Tracy
DTSTAMP:20230324T091335Z
SEQUENCE:0
UID:160639-2-841ebed20eb198c4569419e99b7bf40a@themidnightzone.com
ORGANIZER;CN="Midnight":midnight@themidnightzone.com
DESCRIPTION:A seller walks into the shop hoping to score with his MagicJ
	ohnson 50th birthday invitation. Is the deal a slam dunk?Then\, Chum takes
	 a look at some joker playing cards used asprops in \"The Dark Knight.\" W
	ill he play his cards right\, orwill the seller pull a disappearing act? N
	ext\, Corey heads tothe range to test out a Civil War-era derringer. Will 
	he pocketthis pistol\, or shoot it down? And later\, Rick's radar picksup 
	a box of ship models used to train the U.S. Navy duringWorld War II. Can h
	e helm this deal\, or is it a losing battle?
DTSTART:20230406T010000Z
DTEND:20230406T020000Z
END:VEVENT
END:VCALENDAR
