BEGIN:VCALENDAR
VERSION:2.0
PRODID:-//InvisionCommunity Events 4.7.23//EN
METHOD:PUBLISH
CALSCALE:GREGORIAN
REFRESH-INTERVAL:PT15M
X-PUBLISHED-TTL:PT15M
X-WR-CALNAME:At My TV
NAME:At My TV
BEGIN:VTIMEZONE
TZID:Europe/London
TZURL:http://tzurl.org/zoneinfo/Europe/London
X-LIC-LOCATION:Europe/London
BEGIN:DAYLIGHT
TZOFFSETFROM:+0000
TZOFFSETTO:+0100
TZNAME:BST
DTSTART:20230326T020000Z
RRULE:FREQ=YEARLY;BYMONTH=3;BYDAY=-1SU
END:DAYLIGHT
BEGIN:STANDARD
TZOFFSETFROM:+0100
TZOFFSETTO:+0000
TZNAME:GMT
DTSTART:20231029T020000Z
RRULE:FREQ=YEARLY;BYMONTH=10;BYDAY=-1SU
END:STANDARD
END:VTIMEZONE
BEGIN:VEVENT
SUMMARY:Heavy Rescue: 401 7x12 - Nature of The Beast
DTSTAMP:20230328T091333Z
SEQUENCE:0
UID:160830-2-841ebed20eb198c4569419e99b7bf40a@themidnightzone.com
ORGANIZER;CN="Midnight":midnight@themidnightzone.com
DESCRIPTION:Another snowstorm hits Toronto as Sgt. Kerry Schmidt works w
	ithAbram's crew to clear the continent's busiest stretch ofhighway. Duncan
	 teams with John Campbell on a semi mired deepin the mud. Ross' Mike and A
	ustin attempt to recover a trailercarrying an unusual load. And when a fir
	e closes down Highway400\, James and Fabiana answer the call.
DTSTART:20230418T020000Z
DTEND:20230418T030000Z
END:VEVENT
END:VCALENDAR
