BEGIN:VCALENDAR
VERSION:2.0
PRODID:-//InvisionCommunity Events 4.7.23//EN
METHOD:PUBLISH
CALSCALE:GREGORIAN
REFRESH-INTERVAL:PT15M
X-PUBLISHED-TTL:PT15M
X-WR-CALNAME:At My TV
NAME:At My TV
BEGIN:VTIMEZONE
TZID:Europe/London
TZURL:http://tzurl.org/zoneinfo/Europe/London
X-LIC-LOCATION:Europe/London
BEGIN:DAYLIGHT
TZOFFSETFROM:+0000
TZOFFSETTO:+0100
TZNAME:BST
DTSTART:20230326T020000Z
RRULE:FREQ=YEARLY;BYMONTH=3;BYDAY=-1SU
END:DAYLIGHT
BEGIN:STANDARD
TZOFFSETFROM:+0100
TZOFFSETTO:+0000
TZNAME:GMT
DTSTART:20231029T020000Z
RRULE:FREQ=YEARLY;BYMONTH=10;BYDAY=-1SU
END:STANDARD
END:VTIMEZONE
BEGIN:VEVENT
SUMMARY:BattleBots 8x13 - Pizza Party
DTSTAMP:20230331T091328Z
SEQUENCE:0
UID:161001-2-841ebed20eb198c4569419e99b7bf40a@themidnightzone.com
ORGANIZER;CN="Midnight":midnight@themidnightzone.com
DESCRIPTION:With dreams of World Championship glory only a few weeks awa
	y\,anxious\, desperate\, and dangerous robots are barreling intothe arena 
	and putting everything on the line. Tonight\, moreteams will wrap up their
	 qualifying season with their fourthand final fight. While some seek a cov
	eted top seed in thetournament\, others just want to avoid a humiliating d
	efeat. Asthe roller coaster ride to the Giant Nut nears its apex\, it'sthe
	 last chance to hop on board for the ultimate robot ride.
DTSTART:20230414T000000Z
DTEND:20230414T020000Z
END:VEVENT
END:VCALENDAR
