BEGIN:VCALENDAR
VERSION:2.0
PRODID:-//InvisionCommunity Events 4.7.23//EN
METHOD:PUBLISH
CALSCALE:GREGORIAN
REFRESH-INTERVAL:PT15M
X-PUBLISHED-TTL:PT15M
X-WR-CALNAME:At My TV
NAME:At My TV
BEGIN:VTIMEZONE
TZID:Europe/London
TZURL:http://tzurl.org/zoneinfo/Europe/London
X-LIC-LOCATION:Europe/London
BEGIN:DAYLIGHT
TZOFFSETFROM:+0000
TZOFFSETTO:+0100
TZNAME:BST
DTSTART:20230326T020000Z
RRULE:FREQ=YEARLY;BYMONTH=3;BYDAY=-1SU
END:DAYLIGHT
BEGIN:STANDARD
TZOFFSETFROM:+0100
TZOFFSETTO:+0000
TZNAME:GMT
DTSTART:20231029T020000Z
RRULE:FREQ=YEARLY;BYMONTH=10;BYDAY=-1SU
END:STANDARD
END:VTIMEZONE
BEGIN:VEVENT
SUMMARY:The Drew Barrymore Show 3x133 - Mary J. Blige\, Remy Ma
DTSTAMP:20230401T091326Z
SEQUENCE:0
UID:161083-2-841ebed20eb198c4569419e99b7bf40a@themidnightzone.com
ORGANIZER;CN="Midnight":midnight@themidnightzone.com
DESCRIPTION:Legendary singer and \"Mary Can\" author Mary J. Blige isjo
	ining Drew and sharing what she'd do if she wasn't a singer\,her go to wor
	kout playlist and more!  Plus\, \"Love andHip-Hop: New York\" alum Remy M
	a and her daughter Kenziesurprise Mary.  It's a show all about design wit
	h interiordesigner Jeremiah Brent joining Drew and Ross Mathews at thenews
	 desk for a special Drew's News: Design Edition. They'recovering headlines
	 like TikTok's latest trending topic\,\"Hollywood Clean\" and the abandone
	d high school that threefriends bought and flipped into apartments. In an 
	all-newdesigned by Drew\, Drew is helping a woman transform her tinystudio
	 apartment and giving tips for small space living. 
DTSTART:20230403T040000Z
DTEND:20230403T050000Z
END:VEVENT
END:VCALENDAR
