BEGIN:VCALENDAR
VERSION:2.0
PRODID:-//InvisionCommunity Events 4.7.23//EN
METHOD:PUBLISH
CALSCALE:GREGORIAN
REFRESH-INTERVAL:PT15M
X-PUBLISHED-TTL:PT15M
X-WR-CALNAME:At My TV
NAME:At My TV
BEGIN:VTIMEZONE
TZID:Europe/London
TZURL:http://tzurl.org/zoneinfo/Europe/London
X-LIC-LOCATION:Europe/London
BEGIN:DAYLIGHT
TZOFFSETFROM:+0000
TZOFFSETTO:+0100
TZNAME:BST
DTSTART:20230326T020000Z
RRULE:FREQ=YEARLY;BYMONTH=3;BYDAY=-1SU
END:DAYLIGHT
BEGIN:STANDARD
TZOFFSETFROM:+0100
TZOFFSETTO:+0000
TZNAME:GMT
DTSTART:20231029T020000Z
RRULE:FREQ=YEARLY;BYMONTH=10;BYDAY=-1SU
END:STANDARD
END:VTIMEZONE
BEGIN:VEVENT
SUMMARY:Saturday Night Live 48x18 - Ana de Armas / Karol G
DTSTAMP:20230402T091325Z
SEQUENCE:0
UID:161200-2-841ebed20eb198c4569419e99b7bf40a@themidnightzone.com
ORGANIZER;CN="Midnight":midnight@themidnightzone.com
DESCRIPTION:Academy Award nominee Ana de Armas will host \"SNL\" for the
	first time on April 15. De Armas stars in \"Ghosted\"\,premiering April 21
	 on Apple TV+.Karol G will make her firstappearance as musical guest. Her 
	newest album\, \"Mañana SeráBonito\"\, is the first all-Spanish album by
	 a female artist tohit #1 the Billboard 200 chart.
DTSTART:20230416T032900Z
DTEND:20230416T045900Z
END:VEVENT
END:VCALENDAR
