BEGIN:VCALENDAR
VERSION:2.0
PRODID:-//InvisionCommunity Events 4.7.23//EN
METHOD:PUBLISH
CALSCALE:GREGORIAN
REFRESH-INTERVAL:PT15M
X-PUBLISHED-TTL:PT15M
X-WR-CALNAME:At My TV
NAME:At My TV
BEGIN:VTIMEZONE
TZID:Europe/London
TZURL:http://tzurl.org/zoneinfo/Europe/London
X-LIC-LOCATION:Europe/London
BEGIN:DAYLIGHT
TZOFFSETFROM:+0000
TZOFFSETTO:+0100
TZNAME:BST
DTSTART:20230326T020000Z
RRULE:FREQ=YEARLY;BYMONTH=3;BYDAY=-1SU
END:DAYLIGHT
BEGIN:STANDARD
TZOFFSETFROM:+0100
TZOFFSETTO:+0000
TZNAME:GMT
DTSTART:20231029T020000Z
RRULE:FREQ=YEARLY;BYMONTH=10;BYDAY=-1SU
END:STANDARD
END:VTIMEZONE
BEGIN:VEVENT
SUMMARY:Rachael Ray 17x122 - Can These Products Improve Gut Health? 
	+Rach's Two-For-One Dinner
DTSTAMP:20230402T091325Z
SEQUENCE:0
UID:161216-2-841ebed20eb198c4569419e99b7bf40a@themidnightzone.com
ORGANIZER;CN="Midnight":midnight@themidnightzone.com
DESCRIPTION:Chef Sara Moulton makes two 5-ingredient dinners includingbu
	ffalo chicken rice with hot sauce and blue cheese. Delish!And\, Rachael's 
	got a two-for-one dinner – bean and kale soupwith fried cheese sandwiche
	s. How could that be bad?! Later\,Dr. Roshini Raj shares new ways to impro
	ve your guthealth—from a new antioxidant nut to a probiotic airpurifier.
DTSTART:20230406T150000Z
DTEND:20230406T160000Z
END:VEVENT
END:VCALENDAR
