BEGIN:VCALENDAR
VERSION:2.0
PRODID:-//InvisionCommunity Events 4.7.23//EN
METHOD:PUBLISH
CALSCALE:GREGORIAN
REFRESH-INTERVAL:PT15M
X-PUBLISHED-TTL:PT15M
X-WR-CALNAME:At My TV
NAME:At My TV
BEGIN:VTIMEZONE
TZID:Europe/London
TZURL:http://tzurl.org/zoneinfo/Europe/London
X-LIC-LOCATION:Europe/London
BEGIN:DAYLIGHT
TZOFFSETFROM:+0000
TZOFFSETTO:+0100
TZNAME:BST
DTSTART:20230326T020000Z
RRULE:FREQ=YEARLY;BYMONTH=3;BYDAY=-1SU
END:DAYLIGHT
BEGIN:STANDARD
TZOFFSETFROM:+0100
TZOFFSETTO:+0000
TZNAME:GMT
DTSTART:20231029T020000Z
RRULE:FREQ=YEARLY;BYMONTH=10;BYDAY=-1SU
END:STANDARD
END:VTIMEZONE
BEGIN:VEVENT
SUMMARY:Waterloo Road 12x7 - Episode 7
DTSTAMP:20230503T091252Z
SEQUENCE:0
UID:163112-2-841ebed20eb198c4569419e99b7bf40a@themidnightzone.com
ORGANIZER;CN="Midnight":midnight@themidnightzone.com
DESCRIPTION:Waterloo Road launches their new school radio\, and Danny us
	esthe launch to try to make amends for past mistakes\, leavingMyles burnin
	g with fury. As Myles's actions begin to catch upwith him\, he's alienated
	 by his peers and vows to get hisrevenge\, causing the school to be rocked
	 by an event withdeadly consequences.Joe and Mike come to a decision regar
	dingDwayne and Zayne\, and as Nicky battles with guilt\, she buttsheads wi
	th Kai\, while Preston is forced to confront hisdemons.
DTSTART:20230517T000000Z
DTEND:20230517T010000Z
END:VEVENT
END:VCALENDAR
