BEGIN:VCALENDAR
VERSION:2.0
PRODID:-//InvisionCommunity Events 4.7.23//EN
METHOD:PUBLISH
CALSCALE:GREGORIAN
REFRESH-INTERVAL:PT15M
X-PUBLISHED-TTL:PT15M
X-WR-CALNAME:At My TV
NAME:At My TV
BEGIN:VTIMEZONE
TZID:Europe/London
TZURL:http://tzurl.org/zoneinfo/Europe/London
X-LIC-LOCATION:Europe/London
BEGIN:DAYLIGHT
TZOFFSETFROM:+0000
TZOFFSETTO:+0100
TZNAME:BST
DTSTART:20230326T020000Z
RRULE:FREQ=YEARLY;BYMONTH=3;BYDAY=-1SU
END:DAYLIGHT
BEGIN:STANDARD
TZOFFSETFROM:+0100
TZOFFSETTO:+0000
TZNAME:GMT
DTSTART:20231029T020000Z
RRULE:FREQ=YEARLY;BYMONTH=10;BYDAY=-1SU
END:STANDARD
END:VTIMEZONE
BEGIN:VEVENT
SUMMARY:Sherri 1x130 - JoMarie Payton\, Alison Sweeney\, MelissaPete
	rman\, Chef Melba Wilson
DTSTAMP:20230506T091250Z
SEQUENCE:0
UID:163303-2-841ebed20eb198c4569419e99b7bf40a@themidnightzone.com
ORGANIZER;CN="Midnight":midnight@themidnightzone.com
DESCRIPTION:Sherri hosts a special Mother's Day edition of her Talk It O
	utPanel with iconic TV moms JoMarie Payton (\"Family Matters\")\,Alison Sw
	eeney (\"Days of our Lives\") and Melissa Peterman(\"Reba\").Then\, famed 
	restauranteur and James Beard Awardsemifinalist Chef Melba Wilson stops by
	 to cook up the perfectMother's Day Brunch.
DTSTART:20230512T140000Z
DTEND:20230512T150000Z
END:VEVENT
END:VCALENDAR
