BEGIN:VCALENDAR
VERSION:2.0
PRODID:-//InvisionCommunity Events 4.7.23//EN
METHOD:PUBLISH
CALSCALE:GREGORIAN
REFRESH-INTERVAL:PT15M
X-PUBLISHED-TTL:PT15M
X-WR-CALNAME:At My TV
NAME:At My TV
BEGIN:VTIMEZONE
TZID:Europe/London
TZURL:http://tzurl.org/zoneinfo/Europe/London
X-LIC-LOCATION:Europe/London
BEGIN:DAYLIGHT
TZOFFSETFROM:+0000
TZOFFSETTO:+0100
TZNAME:BST
DTSTART:20230326T020000Z
RRULE:FREQ=YEARLY;BYMONTH=3;BYDAY=-1SU
END:DAYLIGHT
BEGIN:STANDARD
TZOFFSETFROM:+0100
TZOFFSETTO:+0000
TZNAME:GMT
DTSTART:20231029T020000Z
RRULE:FREQ=YEARLY;BYMONTH=10;BYDAY=-1SU
END:STANDARD
END:VTIMEZONE
BEGIN:VEVENT
SUMMARY:Sherri 1x126 - Lilly Singh\, Tahj Mowry\, Marsha Warfield
DTSTAMP:20230506T091250Z
SEQUENCE:0
UID:163322-2-841ebed20eb198c4569419e99b7bf40a@themidnightzone.com
ORGANIZER;CN="Midnight":midnight@themidnightzone.com
DESCRIPTION:Sherri kicks off the week by giving her hilarious take on th
	eheadlines! Then\, Lilly Singh &amp\; Tahj Mowry stop by totell us about 
	their new comedy musical series\, \"The MuppetsMayhem\,\" on Disney+. Plu
	s\, \"Night Court\" and \"9.1.1.\"star Marsha Warfield drops by to talk a
	bout her iconic comedycareer and finally sees the green room at SHERRI tha
	t wasinspired by her.
DTSTART:20230508T140000Z
DTEND:20230508T150000Z
END:VEVENT
END:VCALENDAR
