BEGIN:VCALENDAR
VERSION:2.0
PRODID:-//InvisionCommunity Events 4.7.23//EN
METHOD:PUBLISH
CALSCALE:GREGORIAN
REFRESH-INTERVAL:PT15M
X-PUBLISHED-TTL:PT15M
X-WR-CALNAME:At My TV
NAME:At My TV
BEGIN:VTIMEZONE
TZID:Europe/London
TZURL:http://tzurl.org/zoneinfo/Europe/London
X-LIC-LOCATION:Europe/London
BEGIN:DAYLIGHT
TZOFFSETFROM:+0000
TZOFFSETTO:+0100
TZNAME:BST
DTSTART:20230326T020000Z
RRULE:FREQ=YEARLY;BYMONTH=3;BYDAY=-1SU
END:DAYLIGHT
BEGIN:STANDARD
TZOFFSETFROM:+0100
TZOFFSETTO:+0000
TZNAME:GMT
DTSTART:20231029T020000Z
RRULE:FREQ=YEARLY;BYMONTH=10;BYDAY=-1SU
END:STANDARD
END:VTIMEZONE
BEGIN:VEVENT
SUMMARY:Rachael Ray 17x143 - Delicious Mother's Day Chicken Dinner +
	Lemon Cream Puff Dessert
DTSTAMP:20230507T091252Z
SEQUENCE:0
UID:163341-2-841ebed20eb198c4569419e99b7bf40a@themidnightzone.com
ORGANIZER;CN="Midnight":midnight@themidnightzone.com
DESCRIPTION:Co-host of \"The View\" Sunny Hostin tells us all about hers
	econd novel\, \"Summer on Sag Harbor.\" And for Mother's Day\,Rachael make
	s an Italian-style crispy-skinned chicken under abrick and her sister Mari
	a takes care of dessert with a\"gorgeous\" lemon cream puff inspired by ec
	lairs. Then\,charcuterie board expert Marissa Mullen shares a springtimepl
	ate that your mom will love.
DTSTART:20230512T150000Z
DTEND:20230512T160000Z
END:VEVENT
END:VCALENDAR
