BEGIN:VCALENDAR
VERSION:2.0
PRODID:-//InvisionCommunity Events 4.7.23//EN
METHOD:PUBLISH
CALSCALE:GREGORIAN
REFRESH-INTERVAL:PT15M
X-PUBLISHED-TTL:PT15M
X-WR-CALNAME:At My TV
NAME:At My TV
BEGIN:VTIMEZONE
TZID:Europe/London
TZURL:http://tzurl.org/zoneinfo/Europe/London
X-LIC-LOCATION:Europe/London
BEGIN:DAYLIGHT
TZOFFSETFROM:+0000
TZOFFSETTO:+0100
TZNAME:BST
DTSTART:20230326T020000Z
RRULE:FREQ=YEARLY;BYMONTH=3;BYDAY=-1SU
END:DAYLIGHT
BEGIN:STANDARD
TZOFFSETFROM:+0100
TZOFFSETTO:+0000
TZNAME:GMT
DTSTART:20231029T020000Z
RRULE:FREQ=YEARLY;BYMONTH=10;BYDAY=-1SU
END:STANDARD
END:VTIMEZONE
BEGIN:VEVENT
SUMMARY:Rachael Ray 17x142 - Dr. Will Li Talks Affordable Superfoods
	 +Rach's Simple\, Spicy Pasta Night
DTSTAMP:20230507T091252Z
SEQUENCE:0
UID:163342-2-841ebed20eb198c4569419e99b7bf40a@themidnightzone.com
ORGANIZER;CN="Midnight":midnight@themidnightzone.com
DESCRIPTION:We're seeing the future of farming with Bowery Farming. Then
	\,Chef Eric Adjepong shows what you can do with veggies in asimple dish\, 
	Spaghetti Squash with Cheesy Bowery Baby Kale.Yum! Next\, Dr. Will Li help
	s us save money and get healthy byshowing us superfoods that are budget-fr
	iendly. Plus\, weightloss expert Sam Agboare shares a chocolate protein pa
	ncakerecipe you're going to want to try. And\, Rachael's got asimple\, spi
	cy pasta night!
DTSTART:20230510T150000Z
DTEND:20230510T160000Z
END:VEVENT
END:VCALENDAR
