BEGIN:VCALENDAR
VERSION:2.0
PRODID:-//InvisionCommunity Events 4.7.23//EN
METHOD:PUBLISH
CALSCALE:GREGORIAN
REFRESH-INTERVAL:PT15M
X-PUBLISHED-TTL:PT15M
X-WR-CALNAME:At My TV
NAME:At My TV
BEGIN:VTIMEZONE
TZID:Europe/London
TZURL:http://tzurl.org/zoneinfo/Europe/London
X-LIC-LOCATION:Europe/London
BEGIN:DAYLIGHT
TZOFFSETFROM:+0000
TZOFFSETTO:+0100
TZNAME:BST
DTSTART:20230326T020000Z
RRULE:FREQ=YEARLY;BYMONTH=3;BYDAY=-1SU
END:DAYLIGHT
BEGIN:STANDARD
TZOFFSETFROM:+0100
TZOFFSETTO:+0000
TZNAME:GMT
DTSTART:20231029T020000Z
RRULE:FREQ=YEARLY;BYMONTH=10;BYDAY=-1SU
END:STANDARD
END:VTIMEZONE
BEGIN:VEVENT
SUMMARY:MasterChef 19x16 - Episode 16
DTSTAMP:20230511T091244Z
SEQUENCE:0
UID:163538-2-841ebed20eb198c4569419e99b7bf40a@themidnightzone.com
ORGANIZER;CN="Midnight":midnight@themidnightzone.com
DESCRIPTION:After five weeks of fierce competition in the heats\, theama
	teur cooks have been whittled down to just 14 to kick offKnockout Week. Al
	l of them have just one goal – to lift thecoveted MasterChef trophy. Onl
	y the best can becomesemi-finalists at the end of this week. Over the next
	 twonights\, the heat intensifies as the remaining 14 contestantsare split
	 into two groups.The first group of seven returns tocompete for the chance
	 to experience the pressure of aprofessional kitchen for the first time. T
	hey must cook a dishthat they would have on the menu of their own restaura
	nt\,pop-up or feature in their cookbook. Gregg is away\, so guestjudge Ann
	a Haugh joins John in the MasterChef kitchen to decidewhich five contestan
	ts will go on to cook at a restaurant andwhich two will be going home.The 
	remaining five contestantsthen head to London's Kings Cross\, where they w
	ill be workingat Decimo under Peter Sanchez-Iglesias\, a chef with twoMich
	elin-starred sites in his home town of Bristol thatspecialise in a combina
	tion of Spanish and Mexicancuisine.During a busy lunch service\, the five 
	amateurs will beentirely responsible for serving the restaurant's menu top
	aying customers. Who will buckle under the intense pressure asthey cook in
	 a demanding and totally new environment?In acompetition where only the fo
	od matters\, these amateurs willneed to stand out to survive – taking an
	other precious steptowards being crowned MasterChef Champion 2023.
DTSTART:20230516T200000Z
DTEND:20230516T204100Z
END:VEVENT
END:VCALENDAR
