BEGIN:VCALENDAR
VERSION:2.0
PRODID:-//InvisionCommunity Events 4.7.23//EN
METHOD:PUBLISH
CALSCALE:GREGORIAN
REFRESH-INTERVAL:PT15M
X-PUBLISHED-TTL:PT15M
X-WR-CALNAME:At My TV
NAME:At My TV
BEGIN:VTIMEZONE
TZID:Europe/London
TZURL:http://tzurl.org/zoneinfo/Europe/London
X-LIC-LOCATION:Europe/London
BEGIN:DAYLIGHT
TZOFFSETFROM:+0000
TZOFFSETTO:+0100
TZNAME:BST
DTSTART:20230326T020000Z
RRULE:FREQ=YEARLY;BYMONTH=3;BYDAY=-1SU
END:DAYLIGHT
BEGIN:STANDARD
TZOFFSETFROM:+0100
TZOFFSETTO:+0000
TZNAME:GMT
DTSTART:20231029T020000Z
RRULE:FREQ=YEARLY;BYMONTH=10;BYDAY=-1SU
END:STANDARD
END:VTIMEZONE
BEGIN:VEVENT
SUMMARY:Rachael Ray 17x146 - DIY Tricks to Up Your Home Decor Game +
	Groceries You Should Be Putting in Your Cart
DTSTAMP:20230514T091241Z
SEQUENCE:0
UID:163740-2-841ebed20eb198c4569419e99b7bf40a@themidnightzone.com
ORGANIZER;CN="Midnight":midnight@themidnightzone.com
DESCRIPTION:Rachael's kicking things off with a recipe you can make forb
	reakfast\, lunch or dinner: Cauliflower on Thin Omelets withCheese! And\, 
	Chef Virginia Willis is sharing how she lostsixty-five pounds and she's al
	so cooking up a meatloaf she eatsonce a week. Plus\, three DIY tricks that
	'll up your homedécor game from lifestyle guru Preston Konrad. Then\,nutr
	itionist and New York Times bestselling author\, Dr.Kellyann Petrucci\, is
	 sharing the foods she puts in hergrocery cart week after week that she th
	inks we should too.
DTSTART:20230517T150000Z
DTEND:20230517T160000Z
END:VEVENT
END:VCALENDAR
