BEGIN:VCALENDAR
VERSION:2.0
PRODID:-//InvisionCommunity Events 4.7.23//EN
METHOD:PUBLISH
CALSCALE:GREGORIAN
REFRESH-INTERVAL:PT15M
X-PUBLISHED-TTL:PT15M
X-WR-CALNAME:At My TV
NAME:At My TV
BEGIN:VTIMEZONE
TZID:Europe/London
TZURL:http://tzurl.org/zoneinfo/Europe/London
X-LIC-LOCATION:Europe/London
BEGIN:DAYLIGHT
TZOFFSETFROM:+0000
TZOFFSETTO:+0100
TZNAME:BST
DTSTART:20230326T020000Z
RRULE:FREQ=YEARLY;BYMONTH=3;BYDAY=-1SU
END:DAYLIGHT
BEGIN:STANDARD
TZOFFSETFROM:+0100
TZOFFSETTO:+0000
TZNAME:GMT
DTSTART:20231029T020000Z
RRULE:FREQ=YEARLY;BYMONTH=10;BYDAY=-1SU
END:STANDARD
END:VTIMEZONE
BEGIN:VEVENT
SUMMARY:60 Minutes 55x31 - Price Gouging | Targeting Seniors | JeffK
	oons
DTSTAMP:20230520T091233Z
SEQUENCE:0
UID:163993-2-841ebed20eb198c4569419e99b7bf40a@themidnightzone.com
ORGANIZER;CN="Midnight":midnight@themidnightzone.com
DESCRIPTION:Price Gouging – A 60 MINUTES investigation looks into ho
	wthe Pentagon\, and taxpayers\, get taken advantage of by U.S.defense cont
	ractors. Bill Whitaker sits down with former topcontract negotiator Shay 
	Assad\, who says the accountabilitysystem in the Dept of Defense is broken
	\, and major defensecompanies are flush with excess cash to hand out tosha
	reholders.Targeting Seniors – Cyber con artists usingartificial intell
	igence\, apps\, and social engineering aretargeting parents and grandparen
	ts\, scamming them out of whatnow totals 10 billion dollars a year in Amer
	ica. Sharyn Alfonsispeaks with victims\, law enforcement\, and technologyc
	onsultants about ways to protect seniors from these widespreadcons.Jeff Ko
	ons – Anderson Cooper profiles Jeff Koons\, oneof the world's most pro
	minent and polarizing artists. Known formaking sculptures and paintings in
	spired by everyday objects orfamous characters\, his works can take decade
	s to create andpush the boundaries of technology and sometimes taste. Koon
	sshows Cooper some of his latest work at a stone workshop inPennsylvania a
	nd his studio in New York\, where he gives 60MINUTES a look at what he hop
	es will be a permanent art exhibiton the moon.
DTSTART:20230521T230000Z
DTEND:20230522T000000Z
END:VEVENT
END:VCALENDAR
