BEGIN:VCALENDAR
VERSION:2.0
PRODID:-//InvisionCommunity Events 4.7.23//EN
METHOD:PUBLISH
CALSCALE:GREGORIAN
REFRESH-INTERVAL:PT15M
X-PUBLISHED-TTL:PT15M
X-WR-CALNAME:At My TV
NAME:At My TV
BEGIN:VTIMEZONE
TZID:Europe/London
TZURL:http://tzurl.org/zoneinfo/Europe/London
X-LIC-LOCATION:Europe/London
BEGIN:DAYLIGHT
TZOFFSETFROM:+0000
TZOFFSETTO:+0100
TZNAME:BST
DTSTART:20230326T020000Z
RRULE:FREQ=YEARLY;BYMONTH=3;BYDAY=-1SU
END:DAYLIGHT
BEGIN:STANDARD
TZOFFSETFROM:+0100
TZOFFSETTO:+0000
TZNAME:GMT
DTSTART:20231029T020000Z
RRULE:FREQ=YEARLY;BYMONTH=10;BYDAY=-1SU
END:STANDARD
END:VTIMEZONE
BEGIN:VEVENT
SUMMARY:Alex vs America 3x8 - Alex vs Game Day
DTSTAMP:20230522T091230Z
SEQUENCE:0
UID:164053-2-841ebed20eb198c4569419e99b7bf40a@themidnightzone.com
ORGANIZER;CN="Midnight":midnight@themidnightzone.com
DESCRIPTION:Three talented chefs representing some of the busiest sports
	stadiums in the United States join host Eric Adjepong andchallenge Alex Gu
	arnaschelli in a battle for the best game daydish. In round one\, the chef
	s seal their fate by choosing theingredients everyone will be using and ho
	pe their decision willgive them the advantage. Antonia Lofaso and Beau Mac
	Millanjudge as one chef is eliminated before going into round two\,where t
	hey have the chance to win up to \,000 if they canknock Chef Alex out of t
	he ballpark.
DTSTART:20230605T000000Z
DTEND:20230605T010000Z
END:VEVENT
END:VCALENDAR
