BEGIN:VCALENDAR
VERSION:2.0
PRODID:-//InvisionCommunity Events 4.7.23//EN
METHOD:PUBLISH
CALSCALE:GREGORIAN
REFRESH-INTERVAL:PT15M
X-PUBLISHED-TTL:PT15M
X-WR-CALNAME:At My TV
NAME:At My TV
BEGIN:VTIMEZONE
TZID:Europe/London
TZURL:http://tzurl.org/zoneinfo/Europe/London
X-LIC-LOCATION:Europe/London
BEGIN:DAYLIGHT
TZOFFSETFROM:+0000
TZOFFSETTO:+0100
TZNAME:BST
DTSTART:20230326T020000Z
RRULE:FREQ=YEARLY;BYMONTH=3;BYDAY=-1SU
END:DAYLIGHT
BEGIN:STANDARD
TZOFFSETFROM:+0100
TZOFFSETTO:+0000
TZNAME:GMT
DTSTART:20231029T020000Z
RRULE:FREQ=YEARLY;BYMONTH=10;BYDAY=-1SU
END:STANDARD
END:VTIMEZONE
BEGIN:VEVENT
SUMMARY:Sherri 1x140 - Hailee Steinfeld\, Shameik Moore
DTSTAMP:20230524T091230Z
SEQUENCE:0
UID:164142-2-841ebed20eb198c4569419e99b7bf40a@themidnightzone.com
ORGANIZER;CN="Midnight":midnight@themidnightzone.com
DESCRIPTION:Sherri gives her hilarious take on the trending stories.Then
	\,actress Hailee Steinfeld and actor Shameik Moore sit downtogether to tal
	k about their new film\, \"Spider-Man: Across theSpider-Verse\,\" in theat
	ers on June 2.Plus\, lifestyle expertEvette Rios shows Sherri some of the 
	best backyard party DIYideas for this summer!
DTSTART:20230526T140000Z
DTEND:20230526T150000Z
END:VEVENT
END:VCALENDAR
