BEGIN:VCALENDAR
VERSION:2.0
PRODID:-//InvisionCommunity Events 4.7.23//EN
METHOD:PUBLISH
CALSCALE:GREGORIAN
REFRESH-INTERVAL:PT15M
X-PUBLISHED-TTL:PT15M
X-WR-CALNAME:Pogdesign
NAME:Pogdesign
BEGIN:VTIMEZONE
TZID:Europe/London
TZURL:http://tzurl.org/zoneinfo/Europe/London
X-LIC-LOCATION:Europe/London
BEGIN:DAYLIGHT
TZOFFSETFROM:+0000
TZOFFSETTO:+0100
TZNAME:BST
DTSTART:20230326T020000Z
RRULE:FREQ=YEARLY;BYMONTH=3;BYDAY=-1SU
END:DAYLIGHT
BEGIN:STANDARD
TZOFFSETFROM:+0100
TZOFFSETTO:+0000
TZNAME:GMT
DTSTART:20231029T020000Z
RRULE:FREQ=YEARLY;BYMONTH=10;BYDAY=-1SU
END:STANDARD
END:VTIMEZONE
BEGIN:VEVENT
SUMMARY:It's Always Sunny in Philadelphia S16E02 - \nFrank Shoots Ev
	eryMember of the Gang
DTSTAMP:20230525T132005Z
SEQUENCE:0
UID:164211-3-841ebed20eb198c4569419e99b7bf40a@themidnightzone.com
ORGANIZER;CN="Midnight":midnight@themidnightzone.com
DESCRIPTION:After Frank shoots Dennis and Dee\, they resolve to takeFran
	k's gun away. Mac and Charlie go on a road trip with theirmoms to get thei
	r inheritances - for Mac\, it's letters writtenby his grandfather which ha
	ve fallen into his Uncle Donald'shands\, while for Charlie\, it's a jar of
	 teeth that is now inthe hands of his sisters\, Bunny and Candy.
DTSTART:20230607T223000Z
DTEND:20230607T230000Z
END:VEVENT
END:VCALENDAR
