BEGIN:VCALENDAR
VERSION:2.0
PRODID:-//InvisionCommunity Events 4.7.23//EN
METHOD:PUBLISH
CALSCALE:GREGORIAN
REFRESH-INTERVAL:PT15M
X-PUBLISHED-TTL:PT15M
X-WR-CALNAME:At My TV
NAME:At My TV
BEGIN:VTIMEZONE
TZID:Europe/London
TZURL:http://tzurl.org/zoneinfo/Europe/London
X-LIC-LOCATION:Europe/London
BEGIN:DAYLIGHT
TZOFFSETFROM:+0000
TZOFFSETTO:+0100
TZNAME:BST
DTSTART:20230326T020000Z
RRULE:FREQ=YEARLY;BYMONTH=3;BYDAY=-1SU
END:DAYLIGHT
BEGIN:STANDARD
TZOFFSETFROM:+0100
TZOFFSETTO:+0000
TZNAME:GMT
DTSTART:20231029T020000Z
RRULE:FREQ=YEARLY;BYMONTH=10;BYDAY=-1SU
END:STANDARD
END:VTIMEZONE
BEGIN:VEVENT
SUMMARY:Britain's Got Talent 16x14 - Final
DTSTAMP:20230526T091229Z
SEQUENCE:0
UID:164227-2-841ebed20eb198c4569419e99b7bf40a@themidnightzone.com
ORGANIZER;CN="Midnight":midnight@themidnightzone.com
DESCRIPTION:After five nights of awe-inspiring live performances in thes
	emi-finals\, Britain's Got Talent series 16 draws to a closethis evening a
	s our finalists go head-to-head in one last bidto be crowned champion of B
	ritain's Got Talent 2023.Ant and Decreturn to host the grand finale\, whil
	st Simon Cowell\, AmandaHolden\, Alesha Dixon and Bruno Tonioli form the j
	udgingpanel.Taking to stage are the acts who secured the judges' andpublic
	 votes across the semi-finals. For the final\, the publicvote alone determ
	ines the outcome of the night\, where thechosen favourite will be named th
	e winner of Britain's GotTalent 2023. As always\, the victor will also be 
	leaving thecompetition with the life-changing £250\,000 cash prize andtha
	t coveted place at The Royal Variety Performance.
DTSTART:20230604T183000Z
DTEND:20230604T203000Z
END:VEVENT
END:VCALENDAR
