BEGIN:VCALENDAR
VERSION:2.0
PRODID:-//InvisionCommunity Events 4.7.23//EN
METHOD:PUBLISH
CALSCALE:GREGORIAN
REFRESH-INTERVAL:PT15M
X-PUBLISHED-TTL:PT15M
X-WR-CALNAME:At My TV
NAME:At My TV
BEGIN:VTIMEZONE
TZID:Europe/London
TZURL:http://tzurl.org/zoneinfo/Europe/London
X-LIC-LOCATION:Europe/London
BEGIN:DAYLIGHT
TZOFFSETFROM:+0000
TZOFFSETTO:+0100
TZNAME:BST
DTSTART:20230326T020000Z
RRULE:FREQ=YEARLY;BYMONTH=3;BYDAY=-1SU
END:DAYLIGHT
BEGIN:STANDARD
TZOFFSETFROM:+0100
TZOFFSETTO:+0000
TZNAME:GMT
DTSTART:20231029T020000Z
RRULE:FREQ=YEARLY;BYMONTH=10;BYDAY=-1SU
END:STANDARD
END:VTIMEZONE
BEGIN:VEVENT
SUMMARY:The Proof Is Out There 3x11 - Congressional UFOs\, New Nessi
	eand Zombie Fish
DTSTAMP:20230527T091226Z
SEQUENCE:0
UID:164297-2-841ebed20eb198c4569419e99b7bf40a@themidnightzone.com
ORGANIZER;CN="Midnight":midnight@themidnightzone.com
DESCRIPTION:Does a video recently presented to Congress by the U.S. Navy
	prove once and for all that UFOs really exist? Is the latestalleged Loch N
	ess Monster footage the most compelling proof ofthe creature's existence i
	n years? How does a zombie fish headbite its way through a tin can? And ma
	rine scientists discovera mysterious \"Yellow Brick Road\" at the bottom o
	f the PacificOcean. Tony and his team of experts examine the evidence tofi
	nd the truth.
DTSTART:20230610T020300Z
DTEND:20230610T030300Z
END:VEVENT
END:VCALENDAR
