BEGIN:VCALENDAR
VERSION:2.0
PRODID:-//InvisionCommunity Events 4.7.23//EN
METHOD:PUBLISH
CALSCALE:GREGORIAN
REFRESH-INTERVAL:PT15M
X-PUBLISHED-TTL:PT15M
X-WR-CALNAME:At My TV
NAME:At My TV
BEGIN:VTIMEZONE
TZID:Europe/London
TZURL:http://tzurl.org/zoneinfo/Europe/London
X-LIC-LOCATION:Europe/London
BEGIN:DAYLIGHT
TZOFFSETFROM:+0000
TZOFFSETTO:+0100
TZNAME:BST
DTSTART:20230326T020000Z
RRULE:FREQ=YEARLY;BYMONTH=3;BYDAY=-1SU
END:DAYLIGHT
BEGIN:STANDARD
TZOFFSETFROM:+0100
TZOFFSETTO:+0000
TZNAME:GMT
DTSTART:20231029T020000Z
RRULE:FREQ=YEARLY;BYMONTH=10;BYDAY=-1SU
END:STANDARD
END:VTIMEZONE
BEGIN:VEVENT
SUMMARY:Summer Baking Championship 1x6 - Summer Celebrations
DTSTAMP:20230530T091224Z
SEQUENCE:0
UID:164399-2-841ebed20eb198c4569419e99b7bf40a@themidnightzone.com
ORGANIZER;CN="Midnight":midnight@themidnightzone.com
DESCRIPTION:With Father's Day around the corner\, host Jesse Palmer is o
	nthe hunt to find great gifts for Dad! He challenges the bakersto get fire
	d up with grill pan desserts for Dad\, complete withgrill marks! June is a
	lso Pride Month for the LGBTQ+communities\, so the bakers celebrate with b
	old rainbowdesserts that will make judges Carla Hall\, Duff Goldman andDam
	aris Phillips proud.
DTSTART:20230613T010000Z
DTEND:20230613T020000Z
END:VEVENT
END:VCALENDAR
