BEGIN:VCALENDAR
VERSION:2.0
PRODID:-//InvisionCommunity Events 4.7.23//EN
METHOD:PUBLISH
CALSCALE:GREGORIAN
REFRESH-INTERVAL:PT15M
X-PUBLISHED-TTL:PT15M
X-WR-CALNAME:At My TV
NAME:At My TV
BEGIN:VTIMEZONE
TZID:Europe/London
TZURL:http://tzurl.org/zoneinfo/Europe/London
X-LIC-LOCATION:Europe/London
BEGIN:DAYLIGHT
TZOFFSETFROM:+0000
TZOFFSETTO:+0100
TZNAME:BST
DTSTART:20230326T020000Z
RRULE:FREQ=YEARLY;BYMONTH=3;BYDAY=-1SU
END:DAYLIGHT
BEGIN:STANDARD
TZOFFSETFROM:+0100
TZOFFSETTO:+0000
TZNAME:GMT
DTSTART:20231029T020000Z
RRULE:FREQ=YEARLY;BYMONTH=10;BYDAY=-1SU
END:STANDARD
END:VTIMEZONE
BEGIN:VEVENT
SUMMARY:Guy's Grocery Games 32x12 - DDD Guilty Pleasures
DTSTAMP:20230604T091218Z
SEQUENCE:0
UID:164662-2-841ebed20eb198c4569419e99b7bf40a@themidnightzone.com
ORGANIZER;CN="Midnight":midnight@themidnightzone.com
DESCRIPTION:Guy Fieri invites four chefs from Diners\, Drive-Ins and Div
	esto make their most craveable creations. In round one\, theymust make the
	ir favorite guilty pleasure using no more than 6.5pounds of ingredients! T
	hen in round two\, the chefs find thatGrocery Bowl is right up their alley
	 when it comes to decidingwhat whammy items they must feature in their dec
	adent dinerdinner. The winning DDD chef will get to shop Flavortown Market
	for up to \,000!
DTSTART:20230608T010000Z
DTEND:20230608T020000Z
END:VEVENT
END:VCALENDAR
