BEGIN:VCALENDAR
VERSION:2.0
PRODID:-//InvisionCommunity Events 4.7.23//EN
METHOD:PUBLISH
CALSCALE:GREGORIAN
REFRESH-INTERVAL:PT15M
X-PUBLISHED-TTL:PT15M
X-WR-CALNAME:At My TV
NAME:At My TV
BEGIN:VTIMEZONE
TZID:Europe/London
TZURL:http://tzurl.org/zoneinfo/Europe/London
X-LIC-LOCATION:Europe/London
BEGIN:DAYLIGHT
TZOFFSETFROM:+0000
TZOFFSETTO:+0100
TZNAME:BST
DTSTART:20230326T020000Z
RRULE:FREQ=YEARLY;BYMONTH=3;BYDAY=-1SU
END:DAYLIGHT
BEGIN:STANDARD
TZOFFSETFROM:+0100
TZOFFSETTO:+0000
TZNAME:GMT
DTSTART:20231029T020000Z
RRULE:FREQ=YEARLY;BYMONTH=10;BYDAY=-1SU
END:STANDARD
END:VTIMEZONE
BEGIN:VEVENT
SUMMARY:Vice 10x5 - Lone Star Justice & The Cost of War
DTSTAMP:20230604T091218Z
SEQUENCE:0
UID:164663-2-841ebed20eb198c4569419e99b7bf40a@themidnightzone.com
ORGANIZER;CN="Midnight":midnight@themidnightzone.com
DESCRIPTION:Paola Ramos travels to Texas to see how Republican GovernorG
	reg Abbott's border enforcement initiative\, Operation LoneStar\, is poten
	tially circumventing the federal government'sauthority over immigration. O
	ne year after Russia's invasion ofUkraine and an estimated 300\,000 casual
	ties\, Ben C. Solomontreks to the war-torn frontlines to reveal the grim r
	eality ofthe ongoing conflict.
DTSTART:20230612T000000Z
DTEND:20230612T003000Z
END:VEVENT
END:VCALENDAR
