BEGIN:VCALENDAR
VERSION:2.0
PRODID:-//InvisionCommunity Events 4.7.23//EN
METHOD:PUBLISH
CALSCALE:GREGORIAN
REFRESH-INTERVAL:PT15M
X-PUBLISHED-TTL:PT15M
X-WR-CALNAME:Pogdesign
NAME:Pogdesign
BEGIN:VTIMEZONE
TZID:Europe/London
TZURL:http://tzurl.org/zoneinfo/Europe/London
X-LIC-LOCATION:Europe/London
BEGIN:DAYLIGHT
TZOFFSETFROM:+0000
TZOFFSETTO:+0100
TZNAME:BST
DTSTART:20230326T020000Z
RRULE:FREQ=YEARLY;BYMONTH=3;BYDAY=-1SU
END:DAYLIGHT
BEGIN:STANDARD
TZOFFSETFROM:+0100
TZOFFSETTO:+0000
TZNAME:GMT
DTSTART:20231029T020000Z
RRULE:FREQ=YEARLY;BYMONTH=10;BYDAY=-1SU
END:STANDARD
END:VTIMEZONE
BEGIN:VEVENT
SUMMARY:Nancy Drew S04E04 - \nThe Return of the Killer's Hook
DTSTAMP:20230608T052005Z
SEQUENCE:0
UID:164794-3-841ebed20eb198c4569419e99b7bf40a@themidnightzone.com
ORGANIZER;CN="Midnight":midnight@themidnightzone.com
DESCRIPTION:Nancy runs into an old friend who is in town directing a rem
	akeof a horror film called \"Longhook\"\, where strangethings are happenin
	g on set. She's hoping that solving a newcase will help get her out of her
	 funk\, and a worried Ryanoffers to help Nancy since he is a self-proclaim
	ed expert onthe original version of the film. Meanwhile\, Ace helps Bessre
	hearse for her role as Victim #1 in the movie. Lastly\,George and Nick dis
	cover that they were both stood up formeetings by councilwoman\, Brie\, wh
	ich gives them both anuneasy feeling.
DTSTART:20230621T210000Z
DTEND:20230621T220000Z
END:VEVENT
END:VCALENDAR
