BEGIN:VCALENDAR
VERSION:2.0
PRODID:-//InvisionCommunity Events 4.7.23//EN
METHOD:PUBLISH
CALSCALE:GREGORIAN
REFRESH-INTERVAL:PT15M
X-PUBLISHED-TTL:PT15M
X-WR-CALNAME:At My TV
NAME:At My TV
BEGIN:VTIMEZONE
TZID:Europe/London
TZURL:http://tzurl.org/zoneinfo/Europe/London
X-LIC-LOCATION:Europe/London
BEGIN:DAYLIGHT
TZOFFSETFROM:+0000
TZOFFSETTO:+0100
TZNAME:BST
DTSTART:20230326T020000Z
RRULE:FREQ=YEARLY;BYMONTH=3;BYDAY=-1SU
END:DAYLIGHT
BEGIN:STANDARD
TZOFFSETFROM:+0100
TZOFFSETTO:+0000
TZNAME:GMT
DTSTART:20231029T020000Z
RRULE:FREQ=YEARLY;BYMONTH=10;BYDAY=-1SU
END:STANDARD
END:VTIMEZONE
BEGIN:VEVENT
SUMMARY:The Kitchen 34x7 - Gettin' Saucy
DTSTAMP:20230625T091155Z
SEQUENCE:0
UID:165544-2-841ebed20eb198c4569419e99b7bf40a@themidnightzone.com
ORGANIZER;CN="Midnight":midnight@themidnightzone.com
DESCRIPTION:The Kitchen crew has a sauce for every dish! Katie Lee Biege
	lmakes an indulgent Blue Cheese Fondue Burger with CrunchyPotato Sticks\, 
	Geoffrey Zakarian sauces up his Salmon withBalsamic Apricot-Ginger Marmala
	de Glaze and Jeff Mauro makes anew classic with his Buffa-Yaki Wings. Then
	\, AlexGuarnaschelli drizzles summer berries with her luscious WhiteChocol
	ate Sauce\, Sunny Anderson shows off some saucy newtrends and Chef Antonia
	 Lofaso joins the table to chat about\"Barbie Dreamhouse Challenge!\"
DTSTART:20230708T150000Z
DTEND:20230708T160000Z
END:VEVENT
END:VCALENDAR
