BEGIN:VCALENDAR
VERSION:2.0
PRODID:-//InvisionCommunity Events 4.7.23//EN
METHOD:PUBLISH
CALSCALE:GREGORIAN
REFRESH-INTERVAL:PT15M
X-PUBLISHED-TTL:PT15M
X-WR-CALNAME:Pogdesign
NAME:Pogdesign
BEGIN:VTIMEZONE
TZID:Europe/London
TZURL:http://tzurl.org/zoneinfo/Europe/London
X-LIC-LOCATION:Europe/London
BEGIN:DAYLIGHT
TZOFFSETFROM:+0000
TZOFFSETTO:+0100
TZNAME:BST
DTSTART:20230326T020000Z
RRULE:FREQ=YEARLY;BYMONTH=3;BYDAY=-1SU
END:DAYLIGHT
BEGIN:STANDARD
TZOFFSETFROM:+0100
TZOFFSETTO:+0000
TZNAME:GMT
DTSTART:20231029T020000Z
RRULE:FREQ=YEARLY;BYMONTH=10;BYDAY=-1SU
END:STANDARD
END:VTIMEZONE
BEGIN:VEVENT
SUMMARY:It's Always Sunny in Philadelphia S16E07 - \nDennis Takes aM
	ental Health Day
DTSTAMP:20230629T052006Z
SEQUENCE:0
UID:165663-3-841ebed20eb198c4569419e99b7bf40a@themidnightzone.com
ORGANIZER;CN="Midnight":midnight@themidnightzone.com
DESCRIPTION:The guys crash Dee's bowling league night and compete in aBa
	ttle of the Sexes at a bowling alley owned by the McPoyles.Dee\, The Waitr
	ess\, Artemis\, and Gail the Snail versusDennis\, Mac\, Charlie\, and Fran
	k in a classic match to proveonce and for all who has the upper hand in sp
	orts.
DTSTART:20230712T220000Z
DTEND:20230712T223000Z
END:VEVENT
END:VCALENDAR
