BEGIN:VCALENDAR
VERSION:2.0
PRODID:-//InvisionCommunity Events 4.7.23//EN
METHOD:PUBLISH
CALSCALE:GREGORIAN
REFRESH-INTERVAL:PT15M
X-PUBLISHED-TTL:PT15M
X-WR-CALNAME:Pogdesign
NAME:Pogdesign
BEGIN:VTIMEZONE
TZID:Europe/London
TZURL:http://tzurl.org/zoneinfo/Europe/London
X-LIC-LOCATION:Europe/London
BEGIN:DAYLIGHT
TZOFFSETFROM:+0000
TZOFFSETTO:+0100
TZNAME:BST
DTSTART:20230326T020000Z
RRULE:FREQ=YEARLY;BYMONTH=3;BYDAY=-1SU
END:DAYLIGHT
BEGIN:STANDARD
TZOFFSETFROM:+0100
TZOFFSETTO:+0000
TZNAME:GMT
DTSTART:20231029T020000Z
RRULE:FREQ=YEARLY;BYMONTH=10;BYDAY=-1SU
END:STANDARD
END:VTIMEZONE
BEGIN:VEVENT
SUMMARY:V.C. Andrews Dawn S01E02 - \nPart 2: Secrets of the Morning
DTSTAMP:20230702T132004Z
SEQUENCE:0
UID:165800-3-841ebed20eb198c4569419e99b7bf40a@themidnightzone.com
ORGANIZER;CN="Midnight":midnight@themidnightzone.com
DESCRIPTION:Dawn gains the upper hand with her grandmother Lilian afterr
	evealing some disturbing details about her past\, and sheplans her move to
	 New York City so that she can attend the bestperforming arts school there
	. Dawn\, who lives in a boardinghouse run by an aging actress named Agnes 
	Morris\, cannot shakeher dreams about Jimmy and the painful secrets she an
	d Jimmyshare. New teacher and Broadway star Michael Sutton has hissights s
	et on Dawn. Dawn is captivated by his charms\, but whenhe suddenly vanishe
	s\, she finds herself back at the mercy ofher evil grandmother.
DTSTART:20230715T190000Z
DTEND:20230715T200000Z
END:VEVENT
END:VCALENDAR
