BEGIN:VCALENDAR
VERSION:2.0
PRODID:-//InvisionCommunity Events 4.7.23//EN
METHOD:PUBLISH
CALSCALE:GREGORIAN
REFRESH-INTERVAL:PT15M
X-PUBLISHED-TTL:PT15M
X-WR-CALNAME:At My TV
NAME:At My TV
BEGIN:VTIMEZONE
TZID:Europe/London
TZURL:http://tzurl.org/zoneinfo/Europe/London
X-LIC-LOCATION:Europe/London
BEGIN:DAYLIGHT
TZOFFSETFROM:+0000
TZOFFSETTO:+0100
TZNAME:BST
DTSTART:20230326T020000Z
RRULE:FREQ=YEARLY;BYMONTH=3;BYDAY=-1SU
END:DAYLIGHT
BEGIN:STANDARD
TZOFFSETFROM:+0100
TZOFFSETTO:+0000
TZNAME:GMT
DTSTART:20231029T020000Z
RRULE:FREQ=YEARLY;BYMONTH=10;BYDAY=-1SU
END:STANDARD
END:VTIMEZONE
BEGIN:VEVENT
SUMMARY:The 0\,000 Pyramid 6x13 - Deon Cole vs D'Arcy Carden and Ken
	Jennings vs Mario Cantone
DTSTAMP:20230703T091146Z
SEQUENCE:0
UID:165819-2-841ebed20eb198c4569419e99b7bf40a@themidnightzone.com
ORGANIZER;CN="Midnight":midnight@themidnightzone.com
DESCRIPTION:In a new \"The 0\,000 Pyramid\,\" actor and comedian Deon Co
	le(\"black-ish\" and \"grown-ish\") goes head-to-head with actressD'Arcy C
	arden (\"A League of Their Own\")\, then \"Jeopardy!\"host Ken Jennings 
	battles \"Sex and the City\" star MarioCantone.
DTSTART:20230717T020000Z
DTEND:20230717T030000Z
END:VEVENT
END:VCALENDAR
