BEGIN:VCALENDAR
VERSION:2.0
PRODID:-//InvisionCommunity Events 4.7.23//EN
METHOD:PUBLISH
CALSCALE:GREGORIAN
REFRESH-INTERVAL:PT15M
X-PUBLISHED-TTL:PT15M
X-WR-CALNAME:At My TV
NAME:At My TV
BEGIN:VTIMEZONE
TZID:Europe/London
TZURL:http://tzurl.org/zoneinfo/Europe/London
X-LIC-LOCATION:Europe/London
BEGIN:DAYLIGHT
TZOFFSETFROM:+0000
TZOFFSETTO:+0100
TZNAME:BST
DTSTART:20230326T020000Z
RRULE:FREQ=YEARLY;BYMONTH=3;BYDAY=-1SU
END:DAYLIGHT
BEGIN:STANDARD
TZOFFSETFROM:+0100
TZOFFSETTO:+0000
TZNAME:GMT
DTSTART:20231029T020000Z
RRULE:FREQ=YEARLY;BYMONTH=10;BYDAY=-1SU
END:STANDARD
END:VTIMEZONE
BEGIN:VEVENT
SUMMARY:The Proof Is Out There 3x18 - Marfa Lights\, Devil Goat andS
	ubway Survivor
DTSTAMP:20230729T091124Z
SEQUENCE:0
UID:166882-2-841ebed20eb198c4569419e99b7bf40a@themidnightzone.com
ORGANIZER;CN="Midnight":midnight@themidnightzone.com
DESCRIPTION:Are the famous glowing lights seen above Marfa\, Texas anatu
	ral or supernatural phenomenon? What spirit possessed agoat to walk down a
	 street like a human? Are mysterious stonecarvings in Japan connected to a
	 legendary close encounter? Andhow did a woman miraculously survive fallin
	g on to the subwaytrack as an oncoming train passes by? Tony Harris and hi
	s teamof experts examine the clues and make a determination about thevalid
	ity of what we're seeing.
DTSTART:20230812T020300Z
DTEND:20230812T030300Z
END:VEVENT
END:VCALENDAR
