BEGIN:VCALENDAR
VERSION:2.0
PRODID:-//InvisionCommunity Events 4.7.23//EN
METHOD:PUBLISH
CALSCALE:GREGORIAN
REFRESH-INTERVAL:PT15M
X-PUBLISHED-TTL:PT15M
X-WR-CALNAME:At My TV
NAME:At My TV
BEGIN:VTIMEZONE
TZID:Europe/London
TZURL:http://tzurl.org/zoneinfo/Europe/London
X-LIC-LOCATION:Europe/London
BEGIN:DAYLIGHT
TZOFFSETFROM:+0000
TZOFFSETTO:+0100
TZNAME:BST
DTSTART:20230326T020000Z
RRULE:FREQ=YEARLY;BYMONTH=3;BYDAY=-1SU
END:DAYLIGHT
BEGIN:STANDARD
TZOFFSETFROM:+0100
TZOFFSETTO:+0000
TZNAME:GMT
DTSTART:20231029T020000Z
RRULE:FREQ=YEARLY;BYMONTH=10;BYDAY=-1SU
END:STANDARD
END:VTIMEZONE
BEGIN:VEVENT
SUMMARY:Gordon Ramsay's Food Stars 1x9 - Feast Your Eyes
DTSTAMP:20230729T091123Z
SEQUENCE:0
UID:166894-2-841ebed20eb198c4569419e99b7bf40a@themidnightzone.com
ORGANIZER;CN="Midnight":midnight@themidnightzone.com
DESCRIPTION:The top four entrepreneurs are in Las Vegas to put on ashow-
	stopping performance and prove they deserve a place in thefinale. Gordon t
	ests the semifinalists' capability ofdeveloping a new business model in tr
	ue Vegas fashion - asensational culinary circus. In this fusion of high-en
	d cuisinewith first-class entertainment\, each competitor must choosebetwe
	en an appetizer\, cocktail\, main course\, or dessert fromGordon's Hell's 
	Kitchen Restaurant to showcase in theirperformance. The contestants will w
	ork together to integratetheir dishes with a circus performance - the ulti
	mate challengeof crafting the perfect blend. With only three spots in thef
	inale\, the entrepreneurs must communicate clearly\, resistthe temptation 
	to play it safe\, and push the boundaries ofcreativity.
DTSTART:20230810T010000Z
DTEND:20230810T020000Z
END:VEVENT
END:VCALENDAR
